BEGIN:VCALENDAR
VERSION:2.0
PRODID:-//The 115 Club - ECPv6.15.17//NONSGML v1.0//EN
CALSCALE:GREGORIAN
METHOD:PUBLISH
X-ORIGINAL-URL:https://115clubdc.org
X-WR-CALDESC:Events for The 115 Club
REFRESH-INTERVAL;VALUE=DURATION:PT1H
X-Robots-Tag:noindex
X-PUBLISHED-TTL:PT1H
BEGIN:VTIMEZONE
TZID:America/Chicago
BEGIN:DAYLIGHT
TZOFFSETFROM:-0600
TZOFFSETTO:-0500
TZNAME:CDT
DTSTART:20290311T080000
END:DAYLIGHT
BEGIN:STANDARD
TZOFFSETFROM:-0500
TZOFFSETTO:-0600
TZNAME:CST
DTSTART:20291104T070000
END:STANDARD
BEGIN:DAYLIGHT
TZOFFSETFROM:-0600
TZOFFSETTO:-0500
TZNAME:CDT
DTSTART:20300310T080000
END:DAYLIGHT
BEGIN:STANDARD
TZOFFSETFROM:-0500
TZOFFSETTO:-0600
TZNAME:CST
DTSTART:20301103T070000
END:STANDARD
BEGIN:DAYLIGHT
TZOFFSETFROM:-0600
TZOFFSETTO:-0500
TZNAME:CDT
DTSTART:20310309T080000
END:DAYLIGHT
BEGIN:STANDARD
TZOFFSETFROM:-0500
TZOFFSETTO:-0600
TZNAME:CST
DTSTART:20311102T070000
END:STANDARD
END:VTIMEZONE
BEGIN:VEVENT
DTSTART;TZID=America/Chicago:20300325T120000
DTEND;TZID=America/Chicago:20300325T130000
DTSTAMP:20260424T184350
CREATED:20240214T164719Z
LAST-MODIFIED:20250804T144753Z
UID:10007734-1900670400-1900674000@115clubdc.org
SUMMARY:Open AA Meeting: Brown Baggers (12 Steps & 12 Traditions) In person+Zoom
DESCRIPTION:This is an in person meeting with a Zoom option \nZoom meeting access:\nComputer: https://us04web.zoom.us/j/3994175176 the meeting I.D. is: 399 417 5176\nI-Phone access: 312 626 6799 the meeting I.D. is: 399 417 5176# Password is: 115
URL:https://115clubdc.org/event/open-aa-meeting-brown-baggers-12steps/2030-03-25/
LOCATION:The 115 Club\, 115 N 5th Ave\, Sturgeon Bay\, WI\, 54235\, United States
CATEGORIES:Open Meeting
ORGANIZER;CN="The 115 Club":MAILTO:thenew115club@gmail.com
END:VEVENT
BEGIN:VEVENT
DTSTART;TZID=America/Chicago:20300325T190000
DTEND;TZID=America/Chicago:20300325T200000
DTSTAMP:20260424T184350
CREATED:20250804T143304Z
LAST-MODIFIED:20250804T143304Z
UID:10007330-1900695600-1900699200@115clubdc.org
SUMMARY:Open AA Meeting 7:00 PM (Smooth Sailing Group) In person+Zoom
DESCRIPTION:
URL:https://115clubdc.org/event/open-aa-meeting-700-pm-smooth-sailing-group-in-personzoom/2030-03-25/
LOCATION:The 115 Club\, 115 N 5th Ave\, Sturgeon Bay\, WI\, 54235\, United States
ORGANIZER;CN="The 115 Club":MAILTO:thenew115club@gmail.com
END:VEVENT
BEGIN:VEVENT
DTSTART;TZID=America/Chicago:20300326T120000
DTEND;TZID=America/Chicago:20300326T130000
DTSTAMP:20260424T184350
CREATED:20240323T151828Z
LAST-MODIFIED:20250804T144957Z
UID:10007821-1900756800-1900760400@115clubdc.org
SUMMARY:Open AA Meeting: Brown Baggers (Gratitude)  In person+Zoom
DESCRIPTION:This is an in person meeting with a Zoom option. \nZoom meeting access:\nComputer: https://us04web.zoom.us/j/3994175176 the meeting I.D. is: 399 417 5176\nI-Phone access: 312 626 6799 the meeting I.D. is: 399 417 5176# Password is: 115
URL:https://115clubdc.org/event/open-aa-meeting-brown-baggers-gratitude/2030-03-26/
LOCATION:The 115 Club\, 115 N 5th Ave\, Sturgeon Bay\, WI\, 54235\, United States
CATEGORIES:Open Meeting
ORGANIZER;CN="The 115 Club":MAILTO:thenew115club@gmail.com
END:VEVENT
BEGIN:VEVENT
DTSTART;TZID=America/Chicago:20300326T173000
DTEND;TZID=America/Chicago:20300326T183000
DTSTAMP:20260424T184350
CREATED:20250730T013911Z
LAST-MODIFIED:20250730T014240Z
UID:10007011-1900776600-1900780200@115clubdc.org
SUMMARY:Open Beyond Recovery Meeting 5:30 PM In person only
DESCRIPTION:
URL:https://115clubdc.org/event/open-beyond-recovery-meeting-530-pm-in-person-only/2030-03-26/
LOCATION:The 115 Club\, 115 N 5th Ave\, Sturgeon Bay\, WI\, 54235\, United States
ORGANIZER;CN="The 115 Club":MAILTO:thenew115club@gmail.com
END:VEVENT
BEGIN:VEVENT
DTSTART;TZID=America/Chicago:20300326T190000
DTEND;TZID=America/Chicago:20300326T200000
DTSTAMP:20260424T184350
CREATED:20250804T143349Z
LAST-MODIFIED:20250804T143349Z
UID:10007591-1900782000-1900785600@115clubdc.org
SUMMARY:Open AA Meeting 7:00 PM (Smooth Sailing) In person+Zoom
DESCRIPTION:
URL:https://115clubdc.org/event/open-aa-meeting-700-pm-smooth-sailing-in-personzoom/2030-03-26/
LOCATION:The 115 Club\, 115 N 5th Ave\, Sturgeon Bay\, WI\, 54235\, United States
ORGANIZER;CN="The 115 Club":MAILTO:thenew115club@gmail.com
END:VEVENT
BEGIN:VEVENT
DTSTART;TZID=America/Chicago:20300327T120000
DTEND;TZID=America/Chicago:20300327T130000
DTSTAMP:20260424T184350
CREATED:20240323T151910Z
LAST-MODIFIED:20250804T145923Z
UID:10008249-1900843200-1900846800@115clubdc.org
SUMMARY:Open AA Meeting: Brown Baggers (Big Book)  In person+Zoom
DESCRIPTION:This is an in person meeting with a Zoom option. \nZoom meeting access:\nComputer: https://us04web.zoom.us/j/3994175176 the meeting I.D. is: 399 417 5176\nI-Phone access: 312 626 6799 the meeting I.D. is: 399 417 5176# Password is: 115
URL:https://115clubdc.org/event/open-aa-meeting-brown-baggers-book/2030-03-27/
LOCATION:The 115 Club\, 115 N 5th Ave\, Sturgeon Bay\, WI\, 54235\, United States
CATEGORIES:Open Meeting
ORGANIZER;CN="The 115 Club":MAILTO:thenew115club@gmail.com
END:VEVENT
BEGIN:VEVENT
DTSTART;TZID=America/Chicago:20300327T190000
DTEND;TZID=America/Chicago:20300327T200000
DTSTAMP:20260424T184350
CREATED:20240323T152306Z
LAST-MODIFIED:20250804T145906Z
UID:10008178-1900868400-1900872000@115clubdc.org
SUMMARY:Open AA Meeting: Smooth Sailing (Grapevine)  In person+Zoom
DESCRIPTION:This is an in person meeting with a Zoom option. \nZoom meeting access:\nComputer: https://us04web.zoom.us/j/3994175176 the meeting I.D. is: 399 417 5176\nI-Phone access: 312 626 6799 the meeting I.D. is: 399 417 5176# Password is: 115
URL:https://115clubdc.org/event/open-aa-meeting-ss-grapevine/2030-03-27/
LOCATION:The 115 Club\, 115 N 5th Ave\, Sturgeon Bay\, WI\, 54235\, United States
CATEGORIES:Open Meeting
ORGANIZER;CN="The 115 Club":MAILTO:thenew115club@gmail.com
END:VEVENT
BEGIN:VEVENT
DTSTART;TZID=America/Chicago:20300328T120000
DTEND;TZID=America/Chicago:20300328T130000
DTSTAMP:20260424T184350
CREATED:20240323T152009Z
LAST-MODIFIED:20250804T145847Z
UID:10008107-1900929600-1900933200@115clubdc.org
SUMMARY:Open AA Meeting: Brown Baggers (Came to Believe)  In person+Zoom
DESCRIPTION:This is an in person meeting with a Zoom option. \nZoom meeting access:\nComputer: https://us04web.zoom.us/j/3994175176 the meeting I.D. is: 399 417 5176\nI-Phone access: 312 626 6799 the meeting I.D. is: 399 417 5176# Password is: 115
URL:https://115clubdc.org/event/open-aa-meeting-brown-baggers-beleive/2030-03-28/
LOCATION:The 115 Club\, 115 N 5th Ave\, Sturgeon Bay\, WI\, 54235\, United States
CATEGORIES:Open Meeting
ORGANIZER;CN="The 115 Club":MAILTO:thenew115club@gmail.com
END:VEVENT
BEGIN:VEVENT
DTSTART;TZID=America/Chicago:20300328T190000
DTEND;TZID=America/Chicago:20300328T200000
DTSTAMP:20260424T184350
CREATED:20241103T180329Z
LAST-MODIFIED:20250804T145605Z
UID:10006750-1900954800-1900958400@115clubdc.org
SUMMARY:Open Narcotics Anonymous Meeting 7:00 PM (Bridge to Recovery) In person+Zoom
DESCRIPTION:
URL:https://115clubdc.org/event/narcotics-anonymous-na-weekly-meeting/2030-03-28/
LOCATION:The 115 Club\, 115 N 5th Ave\, Sturgeon Bay\, WI\, 54235\, United States
ORGANIZER;CN="The 115 Club":MAILTO:thenew115club@gmail.com
END:VEVENT
BEGIN:VEVENT
DTSTART;TZID=America/Chicago:20300329T120000
DTEND;TZID=America/Chicago:20300329T130000
DTSTAMP:20260424T184350
CREATED:20240323T152040Z
LAST-MODIFIED:20250804T145820Z
UID:10008036-1901016000-1901019600@115clubdc.org
SUMMARY:Open AA Meeting: Brown Baggers (Topic Box Discussion)  In person+Zoom
DESCRIPTION:Brown Baggers\, Topic Box Discussion \nThis is an in person meeting with a Zoom option. \nZoom meeting access:\nComputer: https://us04web.zoom.us/j/3994175176 the meeting I.D. is: 399 417 5176\nI-Phone access: 312 626 6799 the meeting I.D. is: 399 417 5176# Password is: 115
URL:https://115clubdc.org/event/open-aa-meeting-brown-baggers-topic/2030-03-29/
LOCATION:The 115 Club\, 115 N 5th Ave\, Sturgeon Bay\, WI\, 54235\, United States
CATEGORIES:Open Meeting
ORGANIZER;CN="The 115 Club":MAILTO:thenew115club@gmail.com
END:VEVENT
BEGIN:VEVENT
DTSTART;TZID=America/Chicago:20300330T100000
DTEND;TZID=America/Chicago:20300330T110000
DTSTAMP:20260424T184350
CREATED:20240327T140524Z
LAST-MODIFIED:20250804T145750Z
UID:10007965-1901095200-1901098800@115clubdc.org
SUMMARY:Closed Womens AA Meeting: As Bill Sees It  In person only
DESCRIPTION:This is an in person meeting only.
URL:https://115clubdc.org/event/closed-womens-aa-meeting-as-bill-sees-it/2030-03-30/
LOCATION:The 115 Club\, 115 N 5th Ave\, Sturgeon Bay\, WI\, 54235\, United States
CATEGORIES:Closed Meeting
ORGANIZER;CN="The 115 Club":MAILTO:thenew115club@gmail.com
END:VEVENT
BEGIN:VEVENT
DTSTART;TZID=America/Chicago:20300330T120000
DTEND;TZID=America/Chicago:20300330T130000
DTSTAMP:20260424T184350
CREATED:20240323T152123Z
LAST-MODIFIED:20250804T145137Z
UID:10007893-1901102400-1901106000@115clubdc.org
SUMMARY:Open AA Meeting: Brown Baggers (Open Discussion)  In person+Zoom
DESCRIPTION:This is an in person meeting with a Zoom option. \nZoom meeting access:\nComputer: https://us04web.zoom.us/j/3994175176 the meeting I.D. is: 399 417 5176\nI-Phone access: 312 626 6799 the meeting I.D. is: 399 417 5176# Password is: 115
URL:https://115clubdc.org/event/open-aa-meeting-brown-open/2030-03-30/
LOCATION:The 115 Club\, 115 N 5th Ave\, Sturgeon Bay\, WI\, 54235\, United States
CATEGORIES:Open Meeting
ORGANIZER;CN="The 115 Club":MAILTO:thenew115club@gmail.com
END:VEVENT
BEGIN:VEVENT
DTSTART;TZID=America/Chicago:20300331T093000
DTEND;TZID=America/Chicago:20300331T103000
DTSTAMP:20260424T184350
CREATED:20240323T153219Z
LAST-MODIFIED:20250804T144514Z
UID:10007663-1901179800-1901183400@115clubdc.org
SUMMARY:Open AA Meeting 9:30 AM (Principles Before Personalities Group) In person+Zoom
DESCRIPTION:This is an in person meeting with a Zoom option. \nZoom meeting access:\nComputer: https://us04web.zoom.us/j/3994175176 the meeting I.D. is: 399 417 5176\nI-Phone access: 312 626 6799 the meeting I.D. is: 399 417 5176# Password is: 115
URL:https://115clubdc.org/event/open-aa-meeting-principles/2030-03-31/
LOCATION:The 115 Club\, 115 N 5th Ave\, Sturgeon Bay\, WI\, 54235\, United States
CATEGORIES:Open Meeting
ORGANIZER;CN="The 115 Club":MAILTO:thenew115club@gmail.com
END:VEVENT
BEGIN:VEVENT
DTSTART;TZID=America/Chicago:20300401T120000
DTEND;TZID=America/Chicago:20300401T130000
DTSTAMP:20260424T184350
CREATED:20240214T164719Z
LAST-MODIFIED:20250804T144753Z
UID:10007735-1901275200-1901278800@115clubdc.org
SUMMARY:Open AA Meeting: Brown Baggers (12 Steps & 12 Traditions) In person+Zoom
DESCRIPTION:This is an in person meeting with a Zoom option \nZoom meeting access:\nComputer: https://us04web.zoom.us/j/3994175176 the meeting I.D. is: 399 417 5176\nI-Phone access: 312 626 6799 the meeting I.D. is: 399 417 5176# Password is: 115
URL:https://115clubdc.org/event/open-aa-meeting-brown-baggers-12steps/2030-04-01/
LOCATION:The 115 Club\, 115 N 5th Ave\, Sturgeon Bay\, WI\, 54235\, United States
CATEGORIES:Open Meeting
ORGANIZER;CN="The 115 Club":MAILTO:thenew115club@gmail.com
END:VEVENT
BEGIN:VEVENT
DTSTART;TZID=America/Chicago:20300401T190000
DTEND;TZID=America/Chicago:20300401T200000
DTSTAMP:20260424T184350
CREATED:20250804T143304Z
LAST-MODIFIED:20250804T143304Z
UID:10007331-1901300400-1901304000@115clubdc.org
SUMMARY:Open AA Meeting 7:00 PM (Smooth Sailing Group) In person+Zoom
DESCRIPTION:
URL:https://115clubdc.org/event/open-aa-meeting-700-pm-smooth-sailing-group-in-personzoom/2030-04-01/
LOCATION:The 115 Club\, 115 N 5th Ave\, Sturgeon Bay\, WI\, 54235\, United States
ORGANIZER;CN="The 115 Club":MAILTO:thenew115club@gmail.com
END:VEVENT
BEGIN:VEVENT
DTSTART;TZID=America/Chicago:20300402T120000
DTEND;TZID=America/Chicago:20300402T130000
DTSTAMP:20260424T184350
CREATED:20240323T151828Z
LAST-MODIFIED:20250804T144957Z
UID:10007822-1901361600-1901365200@115clubdc.org
SUMMARY:Open AA Meeting: Brown Baggers (Gratitude)  In person+Zoom
DESCRIPTION:This is an in person meeting with a Zoom option. \nZoom meeting access:\nComputer: https://us04web.zoom.us/j/3994175176 the meeting I.D. is: 399 417 5176\nI-Phone access: 312 626 6799 the meeting I.D. is: 399 417 5176# Password is: 115
URL:https://115clubdc.org/event/open-aa-meeting-brown-baggers-gratitude/2030-04-02/
LOCATION:The 115 Club\, 115 N 5th Ave\, Sturgeon Bay\, WI\, 54235\, United States
CATEGORIES:Open Meeting
ORGANIZER;CN="The 115 Club":MAILTO:thenew115club@gmail.com
END:VEVENT
BEGIN:VEVENT
DTSTART;TZID=America/Chicago:20300402T173000
DTEND;TZID=America/Chicago:20300402T183000
DTSTAMP:20260424T184350
CREATED:20250730T013911Z
LAST-MODIFIED:20250730T014240Z
UID:10007012-1901381400-1901385000@115clubdc.org
SUMMARY:Open Beyond Recovery Meeting 5:30 PM In person only
DESCRIPTION:
URL:https://115clubdc.org/event/open-beyond-recovery-meeting-530-pm-in-person-only/2030-04-02/
LOCATION:The 115 Club\, 115 N 5th Ave\, Sturgeon Bay\, WI\, 54235\, United States
ORGANIZER;CN="The 115 Club":MAILTO:thenew115club@gmail.com
END:VEVENT
BEGIN:VEVENT
DTSTART;TZID=America/Chicago:20300402T190000
DTEND;TZID=America/Chicago:20300402T200000
DTSTAMP:20260424T184350
CREATED:20250804T143349Z
LAST-MODIFIED:20250804T143349Z
UID:10007592-1901386800-1901390400@115clubdc.org
SUMMARY:Open AA Meeting 7:00 PM (Smooth Sailing) In person+Zoom
DESCRIPTION:
URL:https://115clubdc.org/event/open-aa-meeting-700-pm-smooth-sailing-in-personzoom/2030-04-02/
LOCATION:The 115 Club\, 115 N 5th Ave\, Sturgeon Bay\, WI\, 54235\, United States
ORGANIZER;CN="The 115 Club":MAILTO:thenew115club@gmail.com
END:VEVENT
BEGIN:VEVENT
DTSTART;TZID=America/Chicago:20300403T120000
DTEND;TZID=America/Chicago:20300403T130000
DTSTAMP:20260424T184350
CREATED:20240323T151910Z
LAST-MODIFIED:20250804T145923Z
UID:10008250-1901448000-1901451600@115clubdc.org
SUMMARY:Open AA Meeting: Brown Baggers (Big Book)  In person+Zoom
DESCRIPTION:This is an in person meeting with a Zoom option. \nZoom meeting access:\nComputer: https://us04web.zoom.us/j/3994175176 the meeting I.D. is: 399 417 5176\nI-Phone access: 312 626 6799 the meeting I.D. is: 399 417 5176# Password is: 115
URL:https://115clubdc.org/event/open-aa-meeting-brown-baggers-book/2030-04-03/
LOCATION:The 115 Club\, 115 N 5th Ave\, Sturgeon Bay\, WI\, 54235\, United States
CATEGORIES:Open Meeting
ORGANIZER;CN="The 115 Club":MAILTO:thenew115club@gmail.com
END:VEVENT
BEGIN:VEVENT
DTSTART;TZID=America/Chicago:20300403T190000
DTEND;TZID=America/Chicago:20300403T200000
DTSTAMP:20260424T184350
CREATED:20240323T152306Z
LAST-MODIFIED:20250804T145906Z
UID:10008179-1901473200-1901476800@115clubdc.org
SUMMARY:Open AA Meeting: Smooth Sailing (Grapevine)  In person+Zoom
DESCRIPTION:This is an in person meeting with a Zoom option. \nZoom meeting access:\nComputer: https://us04web.zoom.us/j/3994175176 the meeting I.D. is: 399 417 5176\nI-Phone access: 312 626 6799 the meeting I.D. is: 399 417 5176# Password is: 115
URL:https://115clubdc.org/event/open-aa-meeting-ss-grapevine/2030-04-03/
LOCATION:The 115 Club\, 115 N 5th Ave\, Sturgeon Bay\, WI\, 54235\, United States
CATEGORIES:Open Meeting
ORGANIZER;CN="The 115 Club":MAILTO:thenew115club@gmail.com
END:VEVENT
BEGIN:VEVENT
DTSTART;TZID=America/Chicago:20300404T120000
DTEND;TZID=America/Chicago:20300404T130000
DTSTAMP:20260424T184350
CREATED:20240323T152009Z
LAST-MODIFIED:20250804T145847Z
UID:10008108-1901534400-1901538000@115clubdc.org
SUMMARY:Open AA Meeting: Brown Baggers (Came to Believe)  In person+Zoom
DESCRIPTION:This is an in person meeting with a Zoom option. \nZoom meeting access:\nComputer: https://us04web.zoom.us/j/3994175176 the meeting I.D. is: 399 417 5176\nI-Phone access: 312 626 6799 the meeting I.D. is: 399 417 5176# Password is: 115
URL:https://115clubdc.org/event/open-aa-meeting-brown-baggers-beleive/2030-04-04/
LOCATION:The 115 Club\, 115 N 5th Ave\, Sturgeon Bay\, WI\, 54235\, United States
CATEGORIES:Open Meeting
ORGANIZER;CN="The 115 Club":MAILTO:thenew115club@gmail.com
END:VEVENT
BEGIN:VEVENT
DTSTART;TZID=America/Chicago:20300404T190000
DTEND;TZID=America/Chicago:20300404T200000
DTSTAMP:20260424T184350
CREATED:20241103T180329Z
LAST-MODIFIED:20250804T145605Z
UID:10006751-1901559600-1901563200@115clubdc.org
SUMMARY:Open Narcotics Anonymous Meeting 7:00 PM (Bridge to Recovery) In person+Zoom
DESCRIPTION:
URL:https://115clubdc.org/event/narcotics-anonymous-na-weekly-meeting/2030-04-04/
LOCATION:The 115 Club\, 115 N 5th Ave\, Sturgeon Bay\, WI\, 54235\, United States
ORGANIZER;CN="The 115 Club":MAILTO:thenew115club@gmail.com
END:VEVENT
BEGIN:VEVENT
DTSTART;TZID=America/Chicago:20300405T120000
DTEND;TZID=America/Chicago:20300405T130000
DTSTAMP:20260424T184350
CREATED:20240323T152040Z
LAST-MODIFIED:20250804T145820Z
UID:10008037-1901620800-1901624400@115clubdc.org
SUMMARY:Open AA Meeting: Brown Baggers (Topic Box Discussion)  In person+Zoom
DESCRIPTION:Brown Baggers\, Topic Box Discussion \nThis is an in person meeting with a Zoom option. \nZoom meeting access:\nComputer: https://us04web.zoom.us/j/3994175176 the meeting I.D. is: 399 417 5176\nI-Phone access: 312 626 6799 the meeting I.D. is: 399 417 5176# Password is: 115
URL:https://115clubdc.org/event/open-aa-meeting-brown-baggers-topic/2030-04-05/
LOCATION:The 115 Club\, 115 N 5th Ave\, Sturgeon Bay\, WI\, 54235\, United States
CATEGORIES:Open Meeting
ORGANIZER;CN="The 115 Club":MAILTO:thenew115club@gmail.com
END:VEVENT
BEGIN:VEVENT
DTSTART;TZID=America/Chicago:20300406T100000
DTEND;TZID=America/Chicago:20300406T110000
DTSTAMP:20260424T184350
CREATED:20240327T140524Z
LAST-MODIFIED:20250804T145750Z
UID:10007966-1901700000-1901703600@115clubdc.org
SUMMARY:Closed Womens AA Meeting: As Bill Sees It  In person only
DESCRIPTION:This is an in person meeting only.
URL:https://115clubdc.org/event/closed-womens-aa-meeting-as-bill-sees-it/2030-04-06/
LOCATION:The 115 Club\, 115 N 5th Ave\, Sturgeon Bay\, WI\, 54235\, United States
CATEGORIES:Closed Meeting
ORGANIZER;CN="The 115 Club":MAILTO:thenew115club@gmail.com
END:VEVENT
BEGIN:VEVENT
DTSTART;TZID=America/Chicago:20300406T120000
DTEND;TZID=America/Chicago:20300406T130000
DTSTAMP:20260424T184350
CREATED:20240323T152123Z
LAST-MODIFIED:20250804T145137Z
UID:10007894-1901707200-1901710800@115clubdc.org
SUMMARY:Open AA Meeting: Brown Baggers (Open Discussion)  In person+Zoom
DESCRIPTION:This is an in person meeting with a Zoom option. \nZoom meeting access:\nComputer: https://us04web.zoom.us/j/3994175176 the meeting I.D. is: 399 417 5176\nI-Phone access: 312 626 6799 the meeting I.D. is: 399 417 5176# Password is: 115
URL:https://115clubdc.org/event/open-aa-meeting-brown-open/2030-04-06/
LOCATION:The 115 Club\, 115 N 5th Ave\, Sturgeon Bay\, WI\, 54235\, United States
CATEGORIES:Open Meeting
ORGANIZER;CN="The 115 Club":MAILTO:thenew115club@gmail.com
END:VEVENT
BEGIN:VEVENT
DTSTART;TZID=America/Chicago:20300407T093000
DTEND;TZID=America/Chicago:20300407T103000
DTSTAMP:20260424T184350
CREATED:20240323T153219Z
LAST-MODIFIED:20250804T144514Z
UID:10007664-1901784600-1901788200@115clubdc.org
SUMMARY:Open AA Meeting 9:30 AM (Principles Before Personalities Group) In person+Zoom
DESCRIPTION:This is an in person meeting with a Zoom option. \nZoom meeting access:\nComputer: https://us04web.zoom.us/j/3994175176 the meeting I.D. is: 399 417 5176\nI-Phone access: 312 626 6799 the meeting I.D. is: 399 417 5176# Password is: 115
URL:https://115clubdc.org/event/open-aa-meeting-principles/2030-04-07/
LOCATION:The 115 Club\, 115 N 5th Ave\, Sturgeon Bay\, WI\, 54235\, United States
CATEGORIES:Open Meeting
ORGANIZER;CN="The 115 Club":MAILTO:thenew115club@gmail.com
END:VEVENT
BEGIN:VEVENT
DTSTART;TZID=America/Chicago:20300408T120000
DTEND;TZID=America/Chicago:20300408T130000
DTSTAMP:20260424T184350
CREATED:20240214T164719Z
LAST-MODIFIED:20250804T144753Z
UID:10007736-1901880000-1901883600@115clubdc.org
SUMMARY:Open AA Meeting: Brown Baggers (12 Steps & 12 Traditions) In person+Zoom
DESCRIPTION:This is an in person meeting with a Zoom option \nZoom meeting access:\nComputer: https://us04web.zoom.us/j/3994175176 the meeting I.D. is: 399 417 5176\nI-Phone access: 312 626 6799 the meeting I.D. is: 399 417 5176# Password is: 115
URL:https://115clubdc.org/event/open-aa-meeting-brown-baggers-12steps/2030-04-08/
LOCATION:The 115 Club\, 115 N 5th Ave\, Sturgeon Bay\, WI\, 54235\, United States
CATEGORIES:Open Meeting
ORGANIZER;CN="The 115 Club":MAILTO:thenew115club@gmail.com
END:VEVENT
BEGIN:VEVENT
DTSTART;TZID=America/Chicago:20300408T190000
DTEND;TZID=America/Chicago:20300408T200000
DTSTAMP:20260424T184350
CREATED:20250804T143304Z
LAST-MODIFIED:20250804T143304Z
UID:10007332-1901905200-1901908800@115clubdc.org
SUMMARY:Open AA Meeting 7:00 PM (Smooth Sailing Group) In person+Zoom
DESCRIPTION:
URL:https://115clubdc.org/event/open-aa-meeting-700-pm-smooth-sailing-group-in-personzoom/2030-04-08/
LOCATION:The 115 Club\, 115 N 5th Ave\, Sturgeon Bay\, WI\, 54235\, United States
ORGANIZER;CN="The 115 Club":MAILTO:thenew115club@gmail.com
END:VEVENT
BEGIN:VEVENT
DTSTART;TZID=America/Chicago:20300409T120000
DTEND;TZID=America/Chicago:20300409T130000
DTSTAMP:20260424T184350
CREATED:20240323T151828Z
LAST-MODIFIED:20250804T144957Z
UID:10007823-1901966400-1901970000@115clubdc.org
SUMMARY:Open AA Meeting: Brown Baggers (Gratitude)  In person+Zoom
DESCRIPTION:This is an in person meeting with a Zoom option. \nZoom meeting access:\nComputer: https://us04web.zoom.us/j/3994175176 the meeting I.D. is: 399 417 5176\nI-Phone access: 312 626 6799 the meeting I.D. is: 399 417 5176# Password is: 115
URL:https://115clubdc.org/event/open-aa-meeting-brown-baggers-gratitude/2030-04-09/
LOCATION:The 115 Club\, 115 N 5th Ave\, Sturgeon Bay\, WI\, 54235\, United States
CATEGORIES:Open Meeting
ORGANIZER;CN="The 115 Club":MAILTO:thenew115club@gmail.com
END:VEVENT
BEGIN:VEVENT
DTSTART;TZID=America/Chicago:20300409T173000
DTEND;TZID=America/Chicago:20300409T183000
DTSTAMP:20260424T184350
CREATED:20250730T013911Z
LAST-MODIFIED:20250730T014240Z
UID:10007013-1901986200-1901989800@115clubdc.org
SUMMARY:Open Beyond Recovery Meeting 5:30 PM In person only
DESCRIPTION:
URL:https://115clubdc.org/event/open-beyond-recovery-meeting-530-pm-in-person-only/2030-04-09/
LOCATION:The 115 Club\, 115 N 5th Ave\, Sturgeon Bay\, WI\, 54235\, United States
ORGANIZER;CN="The 115 Club":MAILTO:thenew115club@gmail.com
END:VEVENT
END:VCALENDAR