BEGIN:VCALENDAR
VERSION:2.0
PRODID:-//The 115 Club - ECPv6.15.17//NONSGML v1.0//EN
CALSCALE:GREGORIAN
METHOD:PUBLISH
X-WR-CALNAME:The 115 Club
X-ORIGINAL-URL:https://115clubdc.org
X-WR-CALDESC:Events for The 115 Club
REFRESH-INTERVAL;VALUE=DURATION:PT1H
X-Robots-Tag:noindex
X-PUBLISHED-TTL:PT1H
BEGIN:VTIMEZONE
TZID:America/Chicago
BEGIN:DAYLIGHT
TZOFFSETFROM:-0600
TZOFFSETTO:-0500
TZNAME:CDT
DTSTART:20260308T080000
END:DAYLIGHT
BEGIN:STANDARD
TZOFFSETFROM:-0500
TZOFFSETTO:-0600
TZNAME:CST
DTSTART:20261101T070000
END:STANDARD
BEGIN:DAYLIGHT
TZOFFSETFROM:-0600
TZOFFSETTO:-0500
TZNAME:CDT
DTSTART:20270314T080000
END:DAYLIGHT
BEGIN:STANDARD
TZOFFSETFROM:-0500
TZOFFSETTO:-0600
TZNAME:CST
DTSTART:20271107T070000
END:STANDARD
BEGIN:DAYLIGHT
TZOFFSETFROM:-0600
TZOFFSETTO:-0500
TZNAME:CDT
DTSTART:20280312T080000
END:DAYLIGHT
BEGIN:STANDARD
TZOFFSETFROM:-0500
TZOFFSETTO:-0600
TZNAME:CST
DTSTART:20281105T070000
END:STANDARD
END:VTIMEZONE
BEGIN:VEVENT
DTSTART;TZID=America/Chicago:20271118T190000
DTEND;TZID=America/Chicago:20271118T200000
DTSTAMP:20260421T204403
CREATED:20241103T180329Z
LAST-MODIFIED:20250804T145605Z
UID:10006627-1826564400-1826568000@115clubdc.org
SUMMARY:Open Narcotics Anonymous Meeting 7:00 PM (Bridge to Recovery) In person+Zoom
DESCRIPTION:
URL:https://115clubdc.org/event/narcotics-anonymous-na-weekly-meeting/2027-11-18/
LOCATION:The 115 Club\, 115 N 5th Ave\, Sturgeon Bay\, WI\, 54235\, United States
ORGANIZER;CN="The 115 Club":MAILTO:thenew115club@gmail.com
END:VEVENT
BEGIN:VEVENT
DTSTART;TZID=America/Chicago:20271119T120000
DTEND;TZID=America/Chicago:20271119T130000
DTSTAMP:20260421T204403
CREATED:20240323T152040Z
LAST-MODIFIED:20250804T145820Z
UID:10003206-1826625600-1826629200@115clubdc.org
SUMMARY:Open AA Meeting: Brown Baggers (Topic Box Discussion)  In person+Zoom
DESCRIPTION:Brown Baggers\, Topic Box Discussion \nThis is an in person meeting with a Zoom option. \nZoom meeting access:\nComputer: https://us04web.zoom.us/j/3994175176 the meeting I.D. is: 399 417 5176\nI-Phone access: 312 626 6799 the meeting I.D. is: 399 417 5176# Password is: 115
URL:https://115clubdc.org/event/open-aa-meeting-brown-baggers-topic/2027-11-19/
LOCATION:The 115 Club\, 115 N 5th Ave\, Sturgeon Bay\, WI\, 54235\, United States
CATEGORIES:Open Meeting
ORGANIZER;CN="The 115 Club":MAILTO:thenew115club@gmail.com
END:VEVENT
BEGIN:VEVENT
DTSTART;TZID=America/Chicago:20271120T100000
DTEND;TZID=America/Chicago:20271120T110000
DTSTAMP:20260421T204403
CREATED:20240327T140524Z
LAST-MODIFIED:20250804T145750Z
UID:10006134-1826704800-1826708400@115clubdc.org
SUMMARY:Closed Womens AA Meeting: As Bill Sees It  In person only
DESCRIPTION:This is an in person meeting only.
URL:https://115clubdc.org/event/closed-womens-aa-meeting-as-bill-sees-it/2027-11-20/
LOCATION:The 115 Club\, 115 N 5th Ave\, Sturgeon Bay\, WI\, 54235\, United States
CATEGORIES:Closed Meeting
ORGANIZER;CN="The 115 Club":MAILTO:thenew115club@gmail.com
END:VEVENT
BEGIN:VEVENT
DTSTART;TZID=America/Chicago:20271120T120000
DTEND;TZID=America/Chicago:20271120T130000
DTSTAMP:20260421T204403
CREATED:20240323T152123Z
LAST-MODIFIED:20250804T145137Z
UID:10003728-1826712000-1826715600@115clubdc.org
SUMMARY:Open AA Meeting: Brown Baggers (Open Discussion)  In person+Zoom
DESCRIPTION:This is an in person meeting with a Zoom option. \nZoom meeting access:\nComputer: https://us04web.zoom.us/j/3994175176 the meeting I.D. is: 399 417 5176\nI-Phone access: 312 626 6799 the meeting I.D. is: 399 417 5176# Password is: 115
URL:https://115clubdc.org/event/open-aa-meeting-brown-open/2027-11-20/
LOCATION:The 115 Club\, 115 N 5th Ave\, Sturgeon Bay\, WI\, 54235\, United States
CATEGORIES:Open Meeting
ORGANIZER;CN="The 115 Club":MAILTO:thenew115club@gmail.com
END:VEVENT
BEGIN:VEVENT
DTSTART;TZID=America/Chicago:20271121T093000
DTEND;TZID=America/Chicago:20271121T103000
DTSTAMP:20260421T204403
CREATED:20240323T153219Z
LAST-MODIFIED:20250804T144514Z
UID:10005874-1826789400-1826793000@115clubdc.org
SUMMARY:Open AA Meeting 9:30 AM (Principles Before Personalities Group) In person+Zoom
DESCRIPTION:This is an in person meeting with a Zoom option. \nZoom meeting access:\nComputer: https://us04web.zoom.us/j/3994175176 the meeting I.D. is: 399 417 5176\nI-Phone access: 312 626 6799 the meeting I.D. is: 399 417 5176# Password is: 115
URL:https://115clubdc.org/event/open-aa-meeting-principles/2027-11-21/
LOCATION:The 115 Club\, 115 N 5th Ave\, Sturgeon Bay\, WI\, 54235\, United States
CATEGORIES:Open Meeting
ORGANIZER;CN="The 115 Club":MAILTO:thenew115club@gmail.com
END:VEVENT
BEGIN:VEVENT
DTSTART;TZID=America/Chicago:20271122T120000
DTEND;TZID=America/Chicago:20271122T130000
DTSTAMP:20260421T204403
CREATED:20240214T164719Z
LAST-MODIFIED:20250804T144753Z
UID:10002163-1826884800-1826888400@115clubdc.org
SUMMARY:Open AA Meeting: Brown Baggers (12 Steps & 12 Traditions) In person+Zoom
DESCRIPTION:This is an in person meeting with a Zoom option \nZoom meeting access:\nComputer: https://us04web.zoom.us/j/3994175176 the meeting I.D. is: 399 417 5176\nI-Phone access: 312 626 6799 the meeting I.D. is: 399 417 5176# Password is: 115
URL:https://115clubdc.org/event/open-aa-meeting-brown-baggers-12steps/2027-11-22/
LOCATION:The 115 Club\, 115 N 5th Ave\, Sturgeon Bay\, WI\, 54235\, United States
CATEGORIES:Open Meeting
ORGANIZER;CN="The 115 Club":MAILTO:thenew115club@gmail.com
END:VEVENT
BEGIN:VEVENT
DTSTART;TZID=America/Chicago:20271122T190000
DTEND;TZID=America/Chicago:20271122T200000
DTSTAMP:20260421T204403
CREATED:20250804T143304Z
LAST-MODIFIED:20250804T143304Z
UID:10007208-1826910000-1826913600@115clubdc.org
SUMMARY:Open AA Meeting 7:00 PM (Smooth Sailing Group) In person+Zoom
DESCRIPTION:
URL:https://115clubdc.org/event/open-aa-meeting-700-pm-smooth-sailing-group-in-personzoom/2027-11-22/
LOCATION:The 115 Club\, 115 N 5th Ave\, Sturgeon Bay\, WI\, 54235\, United States
ORGANIZER;CN="The 115 Club":MAILTO:thenew115club@gmail.com
END:VEVENT
BEGIN:VEVENT
DTSTART;TZID=America/Chicago:20271123T120000
DTEND;TZID=America/Chicago:20271123T130000
DTSTAMP:20260421T204403
CREATED:20240323T151828Z
LAST-MODIFIED:20250804T144957Z
UID:10001641-1826971200-1826974800@115clubdc.org
SUMMARY:Open AA Meeting: Brown Baggers (Gratitude)  In person+Zoom
DESCRIPTION:This is an in person meeting with a Zoom option. \nZoom meeting access:\nComputer: https://us04web.zoom.us/j/3994175176 the meeting I.D. is: 399 417 5176\nI-Phone access: 312 626 6799 the meeting I.D. is: 399 417 5176# Password is: 115
URL:https://115clubdc.org/event/open-aa-meeting-brown-baggers-gratitude/2027-11-23/
LOCATION:The 115 Club\, 115 N 5th Ave\, Sturgeon Bay\, WI\, 54235\, United States
CATEGORIES:Open Meeting
ORGANIZER;CN="The 115 Club":MAILTO:thenew115club@gmail.com
END:VEVENT
BEGIN:VEVENT
DTSTART;TZID=America/Chicago:20271123T173000
DTEND;TZID=America/Chicago:20271123T183000
DTSTAMP:20260421T204403
CREATED:20250730T013911Z
LAST-MODIFIED:20250730T014240Z
UID:10006889-1826991000-1826994600@115clubdc.org
SUMMARY:Open Beyond Recovery Meeting 5:30 PM In person only
DESCRIPTION:
URL:https://115clubdc.org/event/open-beyond-recovery-meeting-530-pm-in-person-only/2027-11-23/
LOCATION:The 115 Club\, 115 N 5th Ave\, Sturgeon Bay\, WI\, 54235\, United States
ORGANIZER;CN="The 115 Club":MAILTO:thenew115club@gmail.com
END:VEVENT
BEGIN:VEVENT
DTSTART;TZID=America/Chicago:20271123T190000
DTEND;TZID=America/Chicago:20271123T200000
DTSTAMP:20260421T204403
CREATED:20250804T143349Z
LAST-MODIFIED:20250804T143349Z
UID:10007469-1826996400-1827000000@115clubdc.org
SUMMARY:Open AA Meeting 7:00 PM (Smooth Sailing) In person+Zoom
DESCRIPTION:
URL:https://115clubdc.org/event/open-aa-meeting-700-pm-smooth-sailing-in-personzoom/2027-11-23/
LOCATION:The 115 Club\, 115 N 5th Ave\, Sturgeon Bay\, WI\, 54235\, United States
ORGANIZER;CN="The 115 Club":MAILTO:thenew115club@gmail.com
END:VEVENT
BEGIN:VEVENT
DTSTART;TZID=America/Chicago:20271124T120000
DTEND;TZID=America/Chicago:20271124T130000
DTSTAMP:20260421T204403
CREATED:20240323T151910Z
LAST-MODIFIED:20250804T145923Z
UID:10001943-1827057600-1827061200@115clubdc.org
SUMMARY:Open AA Meeting: Brown Baggers (Big Book)  In person+Zoom
DESCRIPTION:This is an in person meeting with a Zoom option. \nZoom meeting access:\nComputer: https://us04web.zoom.us/j/3994175176 the meeting I.D. is: 399 417 5176\nI-Phone access: 312 626 6799 the meeting I.D. is: 399 417 5176# Password is: 115
URL:https://115clubdc.org/event/open-aa-meeting-brown-baggers-book/2027-11-24/
LOCATION:The 115 Club\, 115 N 5th Ave\, Sturgeon Bay\, WI\, 54235\, United States
CATEGORIES:Open Meeting
ORGANIZER;CN="The 115 Club":MAILTO:thenew115club@gmail.com
END:VEVENT
BEGIN:VEVENT
DTSTART;TZID=America/Chicago:20271124T190000
DTEND;TZID=America/Chicago:20271124T200000
DTSTAMP:20260421T204403
CREATED:20240323T152306Z
LAST-MODIFIED:20250804T145906Z
UID:10005293-1827082800-1827086400@115clubdc.org
SUMMARY:Open AA Meeting: Smooth Sailing (Grapevine)  In person+Zoom
DESCRIPTION:This is an in person meeting with a Zoom option. \nZoom meeting access:\nComputer: https://us04web.zoom.us/j/3994175176 the meeting I.D. is: 399 417 5176\nI-Phone access: 312 626 6799 the meeting I.D. is: 399 417 5176# Password is: 115
URL:https://115clubdc.org/event/open-aa-meeting-ss-grapevine/2027-11-24/
LOCATION:The 115 Club\, 115 N 5th Ave\, Sturgeon Bay\, WI\, 54235\, United States
CATEGORIES:Open Meeting
ORGANIZER;CN="The 115 Club":MAILTO:thenew115club@gmail.com
END:VEVENT
BEGIN:VEVENT
DTSTART;TZID=America/Chicago:20271125T120000
DTEND;TZID=America/Chicago:20271125T130000
DTSTAMP:20260421T204403
CREATED:20240323T152009Z
LAST-MODIFIED:20250804T145847Z
UID:10002685-1827144000-1827147600@115clubdc.org
SUMMARY:Open AA Meeting: Brown Baggers (Came to Believe)  In person+Zoom
DESCRIPTION:This is an in person meeting with a Zoom option. \nZoom meeting access:\nComputer: https://us04web.zoom.us/j/3994175176 the meeting I.D. is: 399 417 5176\nI-Phone access: 312 626 6799 the meeting I.D. is: 399 417 5176# Password is: 115
URL:https://115clubdc.org/event/open-aa-meeting-brown-baggers-beleive/2027-11-25/
LOCATION:The 115 Club\, 115 N 5th Ave\, Sturgeon Bay\, WI\, 54235\, United States
CATEGORIES:Open Meeting
ORGANIZER;CN="The 115 Club":MAILTO:thenew115club@gmail.com
END:VEVENT
BEGIN:VEVENT
DTSTART;TZID=America/Chicago:20271125T190000
DTEND;TZID=America/Chicago:20271125T200000
DTSTAMP:20260421T204403
CREATED:20241103T180329Z
LAST-MODIFIED:20250804T145605Z
UID:10006628-1827169200-1827172800@115clubdc.org
SUMMARY:Open Narcotics Anonymous Meeting 7:00 PM (Bridge to Recovery) In person+Zoom
DESCRIPTION:
URL:https://115clubdc.org/event/narcotics-anonymous-na-weekly-meeting/2027-11-25/
LOCATION:The 115 Club\, 115 N 5th Ave\, Sturgeon Bay\, WI\, 54235\, United States
ORGANIZER;CN="The 115 Club":MAILTO:thenew115club@gmail.com
END:VEVENT
BEGIN:VEVENT
DTSTART;TZID=America/Chicago:20271126T120000
DTEND;TZID=America/Chicago:20271126T130000
DTSTAMP:20260421T204403
CREATED:20240323T152040Z
LAST-MODIFIED:20250804T145820Z
UID:10003207-1827230400-1827234000@115clubdc.org
SUMMARY:Open AA Meeting: Brown Baggers (Topic Box Discussion)  In person+Zoom
DESCRIPTION:Brown Baggers\, Topic Box Discussion \nThis is an in person meeting with a Zoom option. \nZoom meeting access:\nComputer: https://us04web.zoom.us/j/3994175176 the meeting I.D. is: 399 417 5176\nI-Phone access: 312 626 6799 the meeting I.D. is: 399 417 5176# Password is: 115
URL:https://115clubdc.org/event/open-aa-meeting-brown-baggers-topic/2027-11-26/
LOCATION:The 115 Club\, 115 N 5th Ave\, Sturgeon Bay\, WI\, 54235\, United States
CATEGORIES:Open Meeting
ORGANIZER;CN="The 115 Club":MAILTO:thenew115club@gmail.com
END:VEVENT
BEGIN:VEVENT
DTSTART;TZID=America/Chicago:20271127T100000
DTEND;TZID=America/Chicago:20271127T110000
DTSTAMP:20260421T204403
CREATED:20240327T140524Z
LAST-MODIFIED:20250804T145750Z
UID:10006135-1827309600-1827313200@115clubdc.org
SUMMARY:Closed Womens AA Meeting: As Bill Sees It  In person only
DESCRIPTION:This is an in person meeting only.
URL:https://115clubdc.org/event/closed-womens-aa-meeting-as-bill-sees-it/2027-11-27/
LOCATION:The 115 Club\, 115 N 5th Ave\, Sturgeon Bay\, WI\, 54235\, United States
CATEGORIES:Closed Meeting
ORGANIZER;CN="The 115 Club":MAILTO:thenew115club@gmail.com
END:VEVENT
BEGIN:VEVENT
DTSTART;TZID=America/Chicago:20271127T120000
DTEND;TZID=America/Chicago:20271127T130000
DTSTAMP:20260421T204403
CREATED:20240323T152123Z
LAST-MODIFIED:20250804T145137Z
UID:10003729-1827316800-1827320400@115clubdc.org
SUMMARY:Open AA Meeting: Brown Baggers (Open Discussion)  In person+Zoom
DESCRIPTION:This is an in person meeting with a Zoom option. \nZoom meeting access:\nComputer: https://us04web.zoom.us/j/3994175176 the meeting I.D. is: 399 417 5176\nI-Phone access: 312 626 6799 the meeting I.D. is: 399 417 5176# Password is: 115
URL:https://115clubdc.org/event/open-aa-meeting-brown-open/2027-11-27/
LOCATION:The 115 Club\, 115 N 5th Ave\, Sturgeon Bay\, WI\, 54235\, United States
CATEGORIES:Open Meeting
ORGANIZER;CN="The 115 Club":MAILTO:thenew115club@gmail.com
END:VEVENT
BEGIN:VEVENT
DTSTART;TZID=America/Chicago:20271128T093000
DTEND;TZID=America/Chicago:20271128T103000
DTSTAMP:20260421T204403
CREATED:20240323T153219Z
LAST-MODIFIED:20250804T144514Z
UID:10005875-1827394200-1827397800@115clubdc.org
SUMMARY:Open AA Meeting 9:30 AM (Principles Before Personalities Group) In person+Zoom
DESCRIPTION:This is an in person meeting with a Zoom option. \nZoom meeting access:\nComputer: https://us04web.zoom.us/j/3994175176 the meeting I.D. is: 399 417 5176\nI-Phone access: 312 626 6799 the meeting I.D. is: 399 417 5176# Password is: 115
URL:https://115clubdc.org/event/open-aa-meeting-principles/2027-11-28/
LOCATION:The 115 Club\, 115 N 5th Ave\, Sturgeon Bay\, WI\, 54235\, United States
CATEGORIES:Open Meeting
ORGANIZER;CN="The 115 Club":MAILTO:thenew115club@gmail.com
END:VEVENT
BEGIN:VEVENT
DTSTART;TZID=America/Chicago:20271129T120000
DTEND;TZID=America/Chicago:20271129T130000
DTSTAMP:20260421T204403
CREATED:20240214T164719Z
LAST-MODIFIED:20250804T144753Z
UID:10002164-1827489600-1827493200@115clubdc.org
SUMMARY:Open AA Meeting: Brown Baggers (12 Steps & 12 Traditions) In person+Zoom
DESCRIPTION:This is an in person meeting with a Zoom option \nZoom meeting access:\nComputer: https://us04web.zoom.us/j/3994175176 the meeting I.D. is: 399 417 5176\nI-Phone access: 312 626 6799 the meeting I.D. is: 399 417 5176# Password is: 115
URL:https://115clubdc.org/event/open-aa-meeting-brown-baggers-12steps/2027-11-29/
LOCATION:The 115 Club\, 115 N 5th Ave\, Sturgeon Bay\, WI\, 54235\, United States
CATEGORIES:Open Meeting
ORGANIZER;CN="The 115 Club":MAILTO:thenew115club@gmail.com
END:VEVENT
BEGIN:VEVENT
DTSTART;TZID=America/Chicago:20271129T190000
DTEND;TZID=America/Chicago:20271129T200000
DTSTAMP:20260421T204403
CREATED:20250804T143304Z
LAST-MODIFIED:20250804T143304Z
UID:10007209-1827514800-1827518400@115clubdc.org
SUMMARY:Open AA Meeting 7:00 PM (Smooth Sailing Group) In person+Zoom
DESCRIPTION:
URL:https://115clubdc.org/event/open-aa-meeting-700-pm-smooth-sailing-group-in-personzoom/2027-11-29/
LOCATION:The 115 Club\, 115 N 5th Ave\, Sturgeon Bay\, WI\, 54235\, United States
ORGANIZER;CN="The 115 Club":MAILTO:thenew115club@gmail.com
END:VEVENT
BEGIN:VEVENT
DTSTART;TZID=America/Chicago:20271130T120000
DTEND;TZID=America/Chicago:20271130T130000
DTSTAMP:20260421T204403
CREATED:20240323T151828Z
LAST-MODIFIED:20250804T144957Z
UID:10001642-1827576000-1827579600@115clubdc.org
SUMMARY:Open AA Meeting: Brown Baggers (Gratitude)  In person+Zoom
DESCRIPTION:This is an in person meeting with a Zoom option. \nZoom meeting access:\nComputer: https://us04web.zoom.us/j/3994175176 the meeting I.D. is: 399 417 5176\nI-Phone access: 312 626 6799 the meeting I.D. is: 399 417 5176# Password is: 115
URL:https://115clubdc.org/event/open-aa-meeting-brown-baggers-gratitude/2027-11-30/
LOCATION:The 115 Club\, 115 N 5th Ave\, Sturgeon Bay\, WI\, 54235\, United States
CATEGORIES:Open Meeting
ORGANIZER;CN="The 115 Club":MAILTO:thenew115club@gmail.com
END:VEVENT
BEGIN:VEVENT
DTSTART;TZID=America/Chicago:20271130T173000
DTEND;TZID=America/Chicago:20271130T183000
DTSTAMP:20260421T204403
CREATED:20250730T013911Z
LAST-MODIFIED:20250730T014240Z
UID:10006890-1827595800-1827599400@115clubdc.org
SUMMARY:Open Beyond Recovery Meeting 5:30 PM In person only
DESCRIPTION:
URL:https://115clubdc.org/event/open-beyond-recovery-meeting-530-pm-in-person-only/2027-11-30/
LOCATION:The 115 Club\, 115 N 5th Ave\, Sturgeon Bay\, WI\, 54235\, United States
ORGANIZER;CN="The 115 Club":MAILTO:thenew115club@gmail.com
END:VEVENT
BEGIN:VEVENT
DTSTART;TZID=America/Chicago:20271130T190000
DTEND;TZID=America/Chicago:20271130T200000
DTSTAMP:20260421T204403
CREATED:20250804T143349Z
LAST-MODIFIED:20250804T143349Z
UID:10007470-1827601200-1827604800@115clubdc.org
SUMMARY:Open AA Meeting 7:00 PM (Smooth Sailing) In person+Zoom
DESCRIPTION:
URL:https://115clubdc.org/event/open-aa-meeting-700-pm-smooth-sailing-in-personzoom/2027-11-30/
LOCATION:The 115 Club\, 115 N 5th Ave\, Sturgeon Bay\, WI\, 54235\, United States
ORGANIZER;CN="The 115 Club":MAILTO:thenew115club@gmail.com
END:VEVENT
BEGIN:VEVENT
DTSTART;TZID=America/Chicago:20271201T120000
DTEND;TZID=America/Chicago:20271201T130000
DTSTAMP:20260421T204403
CREATED:20240323T151910Z
LAST-MODIFIED:20250804T145923Z
UID:10001944-1827662400-1827666000@115clubdc.org
SUMMARY:Open AA Meeting: Brown Baggers (Big Book)  In person+Zoom
DESCRIPTION:This is an in person meeting with a Zoom option. \nZoom meeting access:\nComputer: https://us04web.zoom.us/j/3994175176 the meeting I.D. is: 399 417 5176\nI-Phone access: 312 626 6799 the meeting I.D. is: 399 417 5176# Password is: 115
URL:https://115clubdc.org/event/open-aa-meeting-brown-baggers-book/2027-12-01/
LOCATION:The 115 Club\, 115 N 5th Ave\, Sturgeon Bay\, WI\, 54235\, United States
CATEGORIES:Open Meeting
ORGANIZER;CN="The 115 Club":MAILTO:thenew115club@gmail.com
END:VEVENT
BEGIN:VEVENT
DTSTART;TZID=America/Chicago:20271201T190000
DTEND;TZID=America/Chicago:20271201T200000
DTSTAMP:20260421T204403
CREATED:20240323T152306Z
LAST-MODIFIED:20250804T145906Z
UID:10005294-1827687600-1827691200@115clubdc.org
SUMMARY:Open AA Meeting: Smooth Sailing (Grapevine)  In person+Zoom
DESCRIPTION:This is an in person meeting with a Zoom option. \nZoom meeting access:\nComputer: https://us04web.zoom.us/j/3994175176 the meeting I.D. is: 399 417 5176\nI-Phone access: 312 626 6799 the meeting I.D. is: 399 417 5176# Password is: 115
URL:https://115clubdc.org/event/open-aa-meeting-ss-grapevine/2027-12-01/
LOCATION:The 115 Club\, 115 N 5th Ave\, Sturgeon Bay\, WI\, 54235\, United States
CATEGORIES:Open Meeting
ORGANIZER;CN="The 115 Club":MAILTO:thenew115club@gmail.com
END:VEVENT
BEGIN:VEVENT
DTSTART;TZID=America/Chicago:20271202T120000
DTEND;TZID=America/Chicago:20271202T130000
DTSTAMP:20260421T204403
CREATED:20240323T152009Z
LAST-MODIFIED:20250804T145847Z
UID:10002686-1827748800-1827752400@115clubdc.org
SUMMARY:Open AA Meeting: Brown Baggers (Came to Believe)  In person+Zoom
DESCRIPTION:This is an in person meeting with a Zoom option. \nZoom meeting access:\nComputer: https://us04web.zoom.us/j/3994175176 the meeting I.D. is: 399 417 5176\nI-Phone access: 312 626 6799 the meeting I.D. is: 399 417 5176# Password is: 115
URL:https://115clubdc.org/event/open-aa-meeting-brown-baggers-beleive/2027-12-02/
LOCATION:The 115 Club\, 115 N 5th Ave\, Sturgeon Bay\, WI\, 54235\, United States
CATEGORIES:Open Meeting
ORGANIZER;CN="The 115 Club":MAILTO:thenew115club@gmail.com
END:VEVENT
BEGIN:VEVENT
DTSTART;TZID=America/Chicago:20271202T190000
DTEND;TZID=America/Chicago:20271202T200000
DTSTAMP:20260421T204403
CREATED:20241103T180329Z
LAST-MODIFIED:20250804T145605Z
UID:10006629-1827774000-1827777600@115clubdc.org
SUMMARY:Open Narcotics Anonymous Meeting 7:00 PM (Bridge to Recovery) In person+Zoom
DESCRIPTION:
URL:https://115clubdc.org/event/narcotics-anonymous-na-weekly-meeting/2027-12-02/
LOCATION:The 115 Club\, 115 N 5th Ave\, Sturgeon Bay\, WI\, 54235\, United States
ORGANIZER;CN="The 115 Club":MAILTO:thenew115club@gmail.com
END:VEVENT
BEGIN:VEVENT
DTSTART;TZID=America/Chicago:20271203T120000
DTEND;TZID=America/Chicago:20271203T130000
DTSTAMP:20260421T204403
CREATED:20240323T152040Z
LAST-MODIFIED:20250804T145820Z
UID:10003208-1827835200-1827838800@115clubdc.org
SUMMARY:Open AA Meeting: Brown Baggers (Topic Box Discussion)  In person+Zoom
DESCRIPTION:Brown Baggers\, Topic Box Discussion \nThis is an in person meeting with a Zoom option. \nZoom meeting access:\nComputer: https://us04web.zoom.us/j/3994175176 the meeting I.D. is: 399 417 5176\nI-Phone access: 312 626 6799 the meeting I.D. is: 399 417 5176# Password is: 115
URL:https://115clubdc.org/event/open-aa-meeting-brown-baggers-topic/2027-12-03/
LOCATION:The 115 Club\, 115 N 5th Ave\, Sturgeon Bay\, WI\, 54235\, United States
CATEGORIES:Open Meeting
ORGANIZER;CN="The 115 Club":MAILTO:thenew115club@gmail.com
END:VEVENT
BEGIN:VEVENT
DTSTART;TZID=America/Chicago:20271204T100000
DTEND;TZID=America/Chicago:20271204T110000
DTSTAMP:20260421T204403
CREATED:20240327T140524Z
LAST-MODIFIED:20250804T145750Z
UID:10006136-1827914400-1827918000@115clubdc.org
SUMMARY:Closed Womens AA Meeting: As Bill Sees It  In person only
DESCRIPTION:This is an in person meeting only.
URL:https://115clubdc.org/event/closed-womens-aa-meeting-as-bill-sees-it/2027-12-04/
LOCATION:The 115 Club\, 115 N 5th Ave\, Sturgeon Bay\, WI\, 54235\, United States
CATEGORIES:Closed Meeting
ORGANIZER;CN="The 115 Club":MAILTO:thenew115club@gmail.com
END:VEVENT
BEGIN:VEVENT
DTSTART;TZID=America/Chicago:20271204T120000
DTEND;TZID=America/Chicago:20271204T130000
DTSTAMP:20260421T204403
CREATED:20240323T152123Z
LAST-MODIFIED:20250804T145137Z
UID:10003730-1827921600-1827925200@115clubdc.org
SUMMARY:Open AA Meeting: Brown Baggers (Open Discussion)  In person+Zoom
DESCRIPTION:This is an in person meeting with a Zoom option. \nZoom meeting access:\nComputer: https://us04web.zoom.us/j/3994175176 the meeting I.D. is: 399 417 5176\nI-Phone access: 312 626 6799 the meeting I.D. is: 399 417 5176# Password is: 115
URL:https://115clubdc.org/event/open-aa-meeting-brown-open/2027-12-04/
LOCATION:The 115 Club\, 115 N 5th Ave\, Sturgeon Bay\, WI\, 54235\, United States
CATEGORIES:Open Meeting
ORGANIZER;CN="The 115 Club":MAILTO:thenew115club@gmail.com
END:VEVENT
END:VCALENDAR