BEGIN:VCALENDAR
VERSION:2.0
PRODID:-//The 115 Club - ECPv6.15.17//NONSGML v1.0//EN
CALSCALE:GREGORIAN
METHOD:PUBLISH
X-WR-CALNAME:The 115 Club
X-ORIGINAL-URL:https://115clubdc.org
X-WR-CALDESC:Events for The 115 Club
REFRESH-INTERVAL;VALUE=DURATION:PT1H
X-Robots-Tag:noindex
X-PUBLISHED-TTL:PT1H
BEGIN:VTIMEZONE
TZID:America/Chicago
BEGIN:DAYLIGHT
TZOFFSETFROM:-0600
TZOFFSETTO:-0500
TZNAME:CDT
DTSTART:20280312T080000
END:DAYLIGHT
BEGIN:STANDARD
TZOFFSETFROM:-0500
TZOFFSETTO:-0600
TZNAME:CST
DTSTART:20281105T070000
END:STANDARD
BEGIN:DAYLIGHT
TZOFFSETFROM:-0600
TZOFFSETTO:-0500
TZNAME:CDT
DTSTART:20290311T080000
END:DAYLIGHT
BEGIN:STANDARD
TZOFFSETFROM:-0500
TZOFFSETTO:-0600
TZNAME:CST
DTSTART:20291104T070000
END:STANDARD
BEGIN:DAYLIGHT
TZOFFSETFROM:-0600
TZOFFSETTO:-0500
TZNAME:CDT
DTSTART:20300310T080000
END:DAYLIGHT
BEGIN:STANDARD
TZOFFSETFROM:-0500
TZOFFSETTO:-0600
TZNAME:CST
DTSTART:20301103T070000
END:STANDARD
END:VTIMEZONE
BEGIN:VEVENT
DTSTART;TZID=America/Chicago:20290503T190000
DTEND;TZID=America/Chicago:20290503T200000
DTSTAMP:20260424T092237
CREATED:20241103T180329Z
LAST-MODIFIED:20250804T145605Z
UID:10006703-1872529200-1872532800@115clubdc.org
SUMMARY:Open Narcotics Anonymous Meeting 7:00 PM (Bridge to Recovery) In person+Zoom
DESCRIPTION:
URL:https://115clubdc.org/event/narcotics-anonymous-na-weekly-meeting/2029-05-03/
LOCATION:The 115 Club\, 115 N 5th Ave\, Sturgeon Bay\, WI\, 54235\, United States
ORGANIZER;CN="The 115 Club":MAILTO:thenew115club@gmail.com
END:VEVENT
BEGIN:VEVENT
DTSTART;TZID=America/Chicago:20290504T120000
DTEND;TZID=America/Chicago:20290504T130000
DTSTAMP:20260424T092237
CREATED:20240323T152040Z
LAST-MODIFIED:20250804T145820Z
UID:10007989-1872590400-1872594000@115clubdc.org
SUMMARY:Open AA Meeting: Brown Baggers (Topic Box Discussion)  In person+Zoom
DESCRIPTION:Brown Baggers\, Topic Box Discussion \nThis is an in person meeting with a Zoom option. \nZoom meeting access:\nComputer: https://us04web.zoom.us/j/3994175176 the meeting I.D. is: 399 417 5176\nI-Phone access: 312 626 6799 the meeting I.D. is: 399 417 5176# Password is: 115
URL:https://115clubdc.org/event/open-aa-meeting-brown-baggers-topic/2029-05-04/
LOCATION:The 115 Club\, 115 N 5th Ave\, Sturgeon Bay\, WI\, 54235\, United States
CATEGORIES:Open Meeting
ORGANIZER;CN="The 115 Club":MAILTO:thenew115club@gmail.com
END:VEVENT
BEGIN:VEVENT
DTSTART;TZID=America/Chicago:20290505T100000
DTEND;TZID=America/Chicago:20290505T110000
DTSTAMP:20260424T092237
CREATED:20240327T140524Z
LAST-MODIFIED:20250804T145750Z
UID:10007918-1872669600-1872673200@115clubdc.org
SUMMARY:Closed Womens AA Meeting: As Bill Sees It  In person only
DESCRIPTION:This is an in person meeting only.
URL:https://115clubdc.org/event/closed-womens-aa-meeting-as-bill-sees-it/2029-05-05/
LOCATION:The 115 Club\, 115 N 5th Ave\, Sturgeon Bay\, WI\, 54235\, United States
CATEGORIES:Closed Meeting
ORGANIZER;CN="The 115 Club":MAILTO:thenew115club@gmail.com
END:VEVENT
BEGIN:VEVENT
DTSTART;TZID=America/Chicago:20290505T120000
DTEND;TZID=America/Chicago:20290505T130000
DTSTAMP:20260424T092237
CREATED:20240323T152123Z
LAST-MODIFIED:20250804T145137Z
UID:10007846-1872676800-1872680400@115clubdc.org
SUMMARY:Open AA Meeting: Brown Baggers (Open Discussion)  In person+Zoom
DESCRIPTION:This is an in person meeting with a Zoom option. \nZoom meeting access:\nComputer: https://us04web.zoom.us/j/3994175176 the meeting I.D. is: 399 417 5176\nI-Phone access: 312 626 6799 the meeting I.D. is: 399 417 5176# Password is: 115
URL:https://115clubdc.org/event/open-aa-meeting-brown-open/2029-05-05/
LOCATION:The 115 Club\, 115 N 5th Ave\, Sturgeon Bay\, WI\, 54235\, United States
CATEGORIES:Open Meeting
ORGANIZER;CN="The 115 Club":MAILTO:thenew115club@gmail.com
END:VEVENT
BEGIN:VEVENT
DTSTART;TZID=America/Chicago:20290506T093000
DTEND;TZID=America/Chicago:20290506T103000
DTSTAMP:20260424T092237
CREATED:20240323T153219Z
LAST-MODIFIED:20250804T144514Z
UID:10007616-1872754200-1872757800@115clubdc.org
SUMMARY:Open AA Meeting 9:30 AM (Principles Before Personalities Group) In person+Zoom
DESCRIPTION:This is an in person meeting with a Zoom option. \nZoom meeting access:\nComputer: https://us04web.zoom.us/j/3994175176 the meeting I.D. is: 399 417 5176\nI-Phone access: 312 626 6799 the meeting I.D. is: 399 417 5176# Password is: 115
URL:https://115clubdc.org/event/open-aa-meeting-principles/2029-05-06/
LOCATION:The 115 Club\, 115 N 5th Ave\, Sturgeon Bay\, WI\, 54235\, United States
CATEGORIES:Open Meeting
ORGANIZER;CN="The 115 Club":MAILTO:thenew115club@gmail.com
END:VEVENT
BEGIN:VEVENT
DTSTART;TZID=America/Chicago:20290507T120000
DTEND;TZID=America/Chicago:20290507T130000
DTSTAMP:20260424T092237
CREATED:20240214T164719Z
LAST-MODIFIED:20250804T144753Z
UID:10007688-1872849600-1872853200@115clubdc.org
SUMMARY:Open AA Meeting: Brown Baggers (12 Steps & 12 Traditions) In person+Zoom
DESCRIPTION:This is an in person meeting with a Zoom option \nZoom meeting access:\nComputer: https://us04web.zoom.us/j/3994175176 the meeting I.D. is: 399 417 5176\nI-Phone access: 312 626 6799 the meeting I.D. is: 399 417 5176# Password is: 115
URL:https://115clubdc.org/event/open-aa-meeting-brown-baggers-12steps/2029-05-07/
LOCATION:The 115 Club\, 115 N 5th Ave\, Sturgeon Bay\, WI\, 54235\, United States
CATEGORIES:Open Meeting
ORGANIZER;CN="The 115 Club":MAILTO:thenew115club@gmail.com
END:VEVENT
BEGIN:VEVENT
DTSTART;TZID=America/Chicago:20290507T190000
DTEND;TZID=America/Chicago:20290507T200000
DTSTAMP:20260424T092238
CREATED:20250804T143304Z
LAST-MODIFIED:20250804T143304Z
UID:10007284-1872874800-1872878400@115clubdc.org
SUMMARY:Open AA Meeting 7:00 PM (Smooth Sailing Group) In person+Zoom
DESCRIPTION:
URL:https://115clubdc.org/event/open-aa-meeting-700-pm-smooth-sailing-group-in-personzoom/2029-05-07/
LOCATION:The 115 Club\, 115 N 5th Ave\, Sturgeon Bay\, WI\, 54235\, United States
ORGANIZER;CN="The 115 Club":MAILTO:thenew115club@gmail.com
END:VEVENT
BEGIN:VEVENT
DTSTART;TZID=America/Chicago:20290508T120000
DTEND;TZID=America/Chicago:20290508T130000
DTSTAMP:20260424T092238
CREATED:20240323T151828Z
LAST-MODIFIED:20250804T144957Z
UID:10007775-1872936000-1872939600@115clubdc.org
SUMMARY:Open AA Meeting: Brown Baggers (Gratitude)  In person+Zoom
DESCRIPTION:This is an in person meeting with a Zoom option. \nZoom meeting access:\nComputer: https://us04web.zoom.us/j/3994175176 the meeting I.D. is: 399 417 5176\nI-Phone access: 312 626 6799 the meeting I.D. is: 399 417 5176# Password is: 115
URL:https://115clubdc.org/event/open-aa-meeting-brown-baggers-gratitude/2029-05-08/
LOCATION:The 115 Club\, 115 N 5th Ave\, Sturgeon Bay\, WI\, 54235\, United States
CATEGORIES:Open Meeting
ORGANIZER;CN="The 115 Club":MAILTO:thenew115club@gmail.com
END:VEVENT
BEGIN:VEVENT
DTSTART;TZID=America/Chicago:20290508T173000
DTEND;TZID=America/Chicago:20290508T183000
DTSTAMP:20260424T092238
CREATED:20250730T013911Z
LAST-MODIFIED:20250730T014240Z
UID:10006965-1872955800-1872959400@115clubdc.org
SUMMARY:Open Beyond Recovery Meeting 5:30 PM In person only
DESCRIPTION:
URL:https://115clubdc.org/event/open-beyond-recovery-meeting-530-pm-in-person-only/2029-05-08/
LOCATION:The 115 Club\, 115 N 5th Ave\, Sturgeon Bay\, WI\, 54235\, United States
ORGANIZER;CN="The 115 Club":MAILTO:thenew115club@gmail.com
END:VEVENT
BEGIN:VEVENT
DTSTART;TZID=America/Chicago:20290508T190000
DTEND;TZID=America/Chicago:20290508T200000
DTSTAMP:20260424T092238
CREATED:20250804T143349Z
LAST-MODIFIED:20250804T143349Z
UID:10007545-1872961200-1872964800@115clubdc.org
SUMMARY:Open AA Meeting 7:00 PM (Smooth Sailing) In person+Zoom
DESCRIPTION:
URL:https://115clubdc.org/event/open-aa-meeting-700-pm-smooth-sailing-in-personzoom/2029-05-08/
LOCATION:The 115 Club\, 115 N 5th Ave\, Sturgeon Bay\, WI\, 54235\, United States
ORGANIZER;CN="The 115 Club":MAILTO:thenew115club@gmail.com
END:VEVENT
BEGIN:VEVENT
DTSTART;TZID=America/Chicago:20290509T120000
DTEND;TZID=America/Chicago:20290509T130000
DTSTAMP:20260424T092238
CREATED:20240323T151910Z
LAST-MODIFIED:20250804T145923Z
UID:10008203-1873022400-1873026000@115clubdc.org
SUMMARY:Open AA Meeting: Brown Baggers (Big Book)  In person+Zoom
DESCRIPTION:This is an in person meeting with a Zoom option. \nZoom meeting access:\nComputer: https://us04web.zoom.us/j/3994175176 the meeting I.D. is: 399 417 5176\nI-Phone access: 312 626 6799 the meeting I.D. is: 399 417 5176# Password is: 115
URL:https://115clubdc.org/event/open-aa-meeting-brown-baggers-book/2029-05-09/
LOCATION:The 115 Club\, 115 N 5th Ave\, Sturgeon Bay\, WI\, 54235\, United States
CATEGORIES:Open Meeting
ORGANIZER;CN="The 115 Club":MAILTO:thenew115club@gmail.com
END:VEVENT
BEGIN:VEVENT
DTSTART;TZID=America/Chicago:20290509T190000
DTEND;TZID=America/Chicago:20290509T200000
DTSTAMP:20260424T092238
CREATED:20240323T152306Z
LAST-MODIFIED:20250804T145906Z
UID:10008132-1873047600-1873051200@115clubdc.org
SUMMARY:Open AA Meeting: Smooth Sailing (Grapevine)  In person+Zoom
DESCRIPTION:This is an in person meeting with a Zoom option. \nZoom meeting access:\nComputer: https://us04web.zoom.us/j/3994175176 the meeting I.D. is: 399 417 5176\nI-Phone access: 312 626 6799 the meeting I.D. is: 399 417 5176# Password is: 115
URL:https://115clubdc.org/event/open-aa-meeting-ss-grapevine/2029-05-09/
LOCATION:The 115 Club\, 115 N 5th Ave\, Sturgeon Bay\, WI\, 54235\, United States
CATEGORIES:Open Meeting
ORGANIZER;CN="The 115 Club":MAILTO:thenew115club@gmail.com
END:VEVENT
BEGIN:VEVENT
DTSTART;TZID=America/Chicago:20290510T120000
DTEND;TZID=America/Chicago:20290510T130000
DTSTAMP:20260424T092238
CREATED:20240323T152009Z
LAST-MODIFIED:20250804T145847Z
UID:10008061-1873108800-1873112400@115clubdc.org
SUMMARY:Open AA Meeting: Brown Baggers (Came to Believe)  In person+Zoom
DESCRIPTION:This is an in person meeting with a Zoom option. \nZoom meeting access:\nComputer: https://us04web.zoom.us/j/3994175176 the meeting I.D. is: 399 417 5176\nI-Phone access: 312 626 6799 the meeting I.D. is: 399 417 5176# Password is: 115
URL:https://115clubdc.org/event/open-aa-meeting-brown-baggers-beleive/2029-05-10/
LOCATION:The 115 Club\, 115 N 5th Ave\, Sturgeon Bay\, WI\, 54235\, United States
CATEGORIES:Open Meeting
ORGANIZER;CN="The 115 Club":MAILTO:thenew115club@gmail.com
END:VEVENT
BEGIN:VEVENT
DTSTART;TZID=America/Chicago:20290510T173000
DTEND;TZID=America/Chicago:20290510T183000
DTSTAMP:20260424T092238
CREATED:20250730T110847Z
LAST-MODIFIED:20250804T145635Z
UID:10007073-1873128600-1873132200@115clubdc.org
SUMMARY:AA District 22 Monthly Meeting 6:00 PM  In person+   Zoom
DESCRIPTION:
URL:https://115clubdc.org/event/aa-district-22-monthly-meeting-600-pm-2/2029-05-10/
LOCATION:The 115 Club\, 115 N 5th Ave\, Sturgeon Bay\, WI\, 54235\, United States
CATEGORIES:District 22 Meeting
ORGANIZER;CN="The 115 Club":MAILTO:thenew115club@gmail.com
END:VEVENT
BEGIN:VEVENT
DTSTART;TZID=America/Chicago:20290510T190000
DTEND;TZID=America/Chicago:20290510T200000
DTSTAMP:20260424T092238
CREATED:20241103T180329Z
LAST-MODIFIED:20250804T145605Z
UID:10006704-1873134000-1873137600@115clubdc.org
SUMMARY:Open Narcotics Anonymous Meeting 7:00 PM (Bridge to Recovery) In person+Zoom
DESCRIPTION:
URL:https://115clubdc.org/event/narcotics-anonymous-na-weekly-meeting/2029-05-10/
LOCATION:The 115 Club\, 115 N 5th Ave\, Sturgeon Bay\, WI\, 54235\, United States
ORGANIZER;CN="The 115 Club":MAILTO:thenew115club@gmail.com
END:VEVENT
BEGIN:VEVENT
DTSTART;TZID=America/Chicago:20290511T120000
DTEND;TZID=America/Chicago:20290511T130000
DTSTAMP:20260424T092238
CREATED:20240323T152040Z
LAST-MODIFIED:20250804T145820Z
UID:10007990-1873195200-1873198800@115clubdc.org
SUMMARY:Open AA Meeting: Brown Baggers (Topic Box Discussion)  In person+Zoom
DESCRIPTION:Brown Baggers\, Topic Box Discussion \nThis is an in person meeting with a Zoom option. \nZoom meeting access:\nComputer: https://us04web.zoom.us/j/3994175176 the meeting I.D. is: 399 417 5176\nI-Phone access: 312 626 6799 the meeting I.D. is: 399 417 5176# Password is: 115
URL:https://115clubdc.org/event/open-aa-meeting-brown-baggers-topic/2029-05-11/
LOCATION:The 115 Club\, 115 N 5th Ave\, Sturgeon Bay\, WI\, 54235\, United States
CATEGORIES:Open Meeting
ORGANIZER;CN="The 115 Club":MAILTO:thenew115club@gmail.com
END:VEVENT
BEGIN:VEVENT
DTSTART;TZID=America/Chicago:20290512T100000
DTEND;TZID=America/Chicago:20290512T110000
DTSTAMP:20260424T092238
CREATED:20240327T140524Z
LAST-MODIFIED:20250804T145750Z
UID:10007919-1873274400-1873278000@115clubdc.org
SUMMARY:Closed Womens AA Meeting: As Bill Sees It  In person only
DESCRIPTION:This is an in person meeting only.
URL:https://115clubdc.org/event/closed-womens-aa-meeting-as-bill-sees-it/2029-05-12/
LOCATION:The 115 Club\, 115 N 5th Ave\, Sturgeon Bay\, WI\, 54235\, United States
CATEGORIES:Closed Meeting
ORGANIZER;CN="The 115 Club":MAILTO:thenew115club@gmail.com
END:VEVENT
BEGIN:VEVENT
DTSTART;TZID=America/Chicago:20290512T120000
DTEND;TZID=America/Chicago:20290512T130000
DTSTAMP:20260424T092238
CREATED:20240323T152123Z
LAST-MODIFIED:20250804T145137Z
UID:10007847-1873281600-1873285200@115clubdc.org
SUMMARY:Open AA Meeting: Brown Baggers (Open Discussion)  In person+Zoom
DESCRIPTION:This is an in person meeting with a Zoom option. \nZoom meeting access:\nComputer: https://us04web.zoom.us/j/3994175176 the meeting I.D. is: 399 417 5176\nI-Phone access: 312 626 6799 the meeting I.D. is: 399 417 5176# Password is: 115
URL:https://115clubdc.org/event/open-aa-meeting-brown-open/2029-05-12/
LOCATION:The 115 Club\, 115 N 5th Ave\, Sturgeon Bay\, WI\, 54235\, United States
CATEGORIES:Open Meeting
ORGANIZER;CN="The 115 Club":MAILTO:thenew115club@gmail.com
END:VEVENT
BEGIN:VEVENT
DTSTART;TZID=America/Chicago:20290513T093000
DTEND;TZID=America/Chicago:20290513T103000
DTSTAMP:20260424T092238
CREATED:20240323T153219Z
LAST-MODIFIED:20250804T144514Z
UID:10007617-1873359000-1873362600@115clubdc.org
SUMMARY:Open AA Meeting 9:30 AM (Principles Before Personalities Group) In person+Zoom
DESCRIPTION:This is an in person meeting with a Zoom option. \nZoom meeting access:\nComputer: https://us04web.zoom.us/j/3994175176 the meeting I.D. is: 399 417 5176\nI-Phone access: 312 626 6799 the meeting I.D. is: 399 417 5176# Password is: 115
URL:https://115clubdc.org/event/open-aa-meeting-principles/2029-05-13/
LOCATION:The 115 Club\, 115 N 5th Ave\, Sturgeon Bay\, WI\, 54235\, United States
CATEGORIES:Open Meeting
ORGANIZER;CN="The 115 Club":MAILTO:thenew115club@gmail.com
END:VEVENT
BEGIN:VEVENT
DTSTART;TZID=America/Chicago:20290514T120000
DTEND;TZID=America/Chicago:20290514T130000
DTSTAMP:20260424T092238
CREATED:20240214T164719Z
LAST-MODIFIED:20250804T144753Z
UID:10007689-1873454400-1873458000@115clubdc.org
SUMMARY:Open AA Meeting: Brown Baggers (12 Steps & 12 Traditions) In person+Zoom
DESCRIPTION:This is an in person meeting with a Zoom option \nZoom meeting access:\nComputer: https://us04web.zoom.us/j/3994175176 the meeting I.D. is: 399 417 5176\nI-Phone access: 312 626 6799 the meeting I.D. is: 399 417 5176# Password is: 115
URL:https://115clubdc.org/event/open-aa-meeting-brown-baggers-12steps/2029-05-14/
LOCATION:The 115 Club\, 115 N 5th Ave\, Sturgeon Bay\, WI\, 54235\, United States
CATEGORIES:Open Meeting
ORGANIZER;CN="The 115 Club":MAILTO:thenew115club@gmail.com
END:VEVENT
BEGIN:VEVENT
DTSTART;TZID=America/Chicago:20290514T190000
DTEND;TZID=America/Chicago:20290514T200000
DTSTAMP:20260424T092238
CREATED:20250804T143304Z
LAST-MODIFIED:20250804T143304Z
UID:10007285-1873479600-1873483200@115clubdc.org
SUMMARY:Open AA Meeting 7:00 PM (Smooth Sailing Group) In person+Zoom
DESCRIPTION:
URL:https://115clubdc.org/event/open-aa-meeting-700-pm-smooth-sailing-group-in-personzoom/2029-05-14/
LOCATION:The 115 Club\, 115 N 5th Ave\, Sturgeon Bay\, WI\, 54235\, United States
ORGANIZER;CN="The 115 Club":MAILTO:thenew115club@gmail.com
END:VEVENT
BEGIN:VEVENT
DTSTART;TZID=America/Chicago:20290515T120000
DTEND;TZID=America/Chicago:20290515T130000
DTSTAMP:20260424T092238
CREATED:20240323T151828Z
LAST-MODIFIED:20250804T144957Z
UID:10007776-1873540800-1873544400@115clubdc.org
SUMMARY:Open AA Meeting: Brown Baggers (Gratitude)  In person+Zoom
DESCRIPTION:This is an in person meeting with a Zoom option. \nZoom meeting access:\nComputer: https://us04web.zoom.us/j/3994175176 the meeting I.D. is: 399 417 5176\nI-Phone access: 312 626 6799 the meeting I.D. is: 399 417 5176# Password is: 115
URL:https://115clubdc.org/event/open-aa-meeting-brown-baggers-gratitude/2029-05-15/
LOCATION:The 115 Club\, 115 N 5th Ave\, Sturgeon Bay\, WI\, 54235\, United States
CATEGORIES:Open Meeting
ORGANIZER;CN="The 115 Club":MAILTO:thenew115club@gmail.com
END:VEVENT
BEGIN:VEVENT
DTSTART;TZID=America/Chicago:20290515T173000
DTEND;TZID=America/Chicago:20290515T183000
DTSTAMP:20260424T092238
CREATED:20250730T013911Z
LAST-MODIFIED:20250730T014240Z
UID:10006966-1873560600-1873564200@115clubdc.org
SUMMARY:Open Beyond Recovery Meeting 5:30 PM In person only
DESCRIPTION:
URL:https://115clubdc.org/event/open-beyond-recovery-meeting-530-pm-in-person-only/2029-05-15/
LOCATION:The 115 Club\, 115 N 5th Ave\, Sturgeon Bay\, WI\, 54235\, United States
ORGANIZER;CN="The 115 Club":MAILTO:thenew115club@gmail.com
END:VEVENT
BEGIN:VEVENT
DTSTART;TZID=America/Chicago:20290515T190000
DTEND;TZID=America/Chicago:20290515T200000
DTSTAMP:20260424T092238
CREATED:20250804T143349Z
LAST-MODIFIED:20250804T143349Z
UID:10007546-1873566000-1873569600@115clubdc.org
SUMMARY:Open AA Meeting 7:00 PM (Smooth Sailing) In person+Zoom
DESCRIPTION:
URL:https://115clubdc.org/event/open-aa-meeting-700-pm-smooth-sailing-in-personzoom/2029-05-15/
LOCATION:The 115 Club\, 115 N 5th Ave\, Sturgeon Bay\, WI\, 54235\, United States
ORGANIZER;CN="The 115 Club":MAILTO:thenew115club@gmail.com
END:VEVENT
BEGIN:VEVENT
DTSTART;TZID=America/Chicago:20290516T120000
DTEND;TZID=America/Chicago:20290516T130000
DTSTAMP:20260424T092238
CREATED:20240323T151910Z
LAST-MODIFIED:20250804T145923Z
UID:10008204-1873627200-1873630800@115clubdc.org
SUMMARY:Open AA Meeting: Brown Baggers (Big Book)  In person+Zoom
DESCRIPTION:This is an in person meeting with a Zoom option. \nZoom meeting access:\nComputer: https://us04web.zoom.us/j/3994175176 the meeting I.D. is: 399 417 5176\nI-Phone access: 312 626 6799 the meeting I.D. is: 399 417 5176# Password is: 115
URL:https://115clubdc.org/event/open-aa-meeting-brown-baggers-book/2029-05-16/
LOCATION:The 115 Club\, 115 N 5th Ave\, Sturgeon Bay\, WI\, 54235\, United States
CATEGORIES:Open Meeting
ORGANIZER;CN="The 115 Club":MAILTO:thenew115club@gmail.com
END:VEVENT
BEGIN:VEVENT
DTSTART;TZID=America/Chicago:20290516T190000
DTEND;TZID=America/Chicago:20290516T200000
DTSTAMP:20260424T092238
CREATED:20240323T152306Z
LAST-MODIFIED:20250804T145906Z
UID:10008133-1873652400-1873656000@115clubdc.org
SUMMARY:Open AA Meeting: Smooth Sailing (Grapevine)  In person+Zoom
DESCRIPTION:This is an in person meeting with a Zoom option. \nZoom meeting access:\nComputer: https://us04web.zoom.us/j/3994175176 the meeting I.D. is: 399 417 5176\nI-Phone access: 312 626 6799 the meeting I.D. is: 399 417 5176# Password is: 115
URL:https://115clubdc.org/event/open-aa-meeting-ss-grapevine/2029-05-16/
LOCATION:The 115 Club\, 115 N 5th Ave\, Sturgeon Bay\, WI\, 54235\, United States
CATEGORIES:Open Meeting
ORGANIZER;CN="The 115 Club":MAILTO:thenew115club@gmail.com
END:VEVENT
BEGIN:VEVENT
DTSTART;TZID=America/Chicago:20290517T120000
DTEND;TZID=America/Chicago:20290517T130000
DTSTAMP:20260424T092238
CREATED:20240323T152009Z
LAST-MODIFIED:20250804T145847Z
UID:10008062-1873713600-1873717200@115clubdc.org
SUMMARY:Open AA Meeting: Brown Baggers (Came to Believe)  In person+Zoom
DESCRIPTION:This is an in person meeting with a Zoom option. \nZoom meeting access:\nComputer: https://us04web.zoom.us/j/3994175176 the meeting I.D. is: 399 417 5176\nI-Phone access: 312 626 6799 the meeting I.D. is: 399 417 5176# Password is: 115
URL:https://115clubdc.org/event/open-aa-meeting-brown-baggers-beleive/2029-05-17/
LOCATION:The 115 Club\, 115 N 5th Ave\, Sturgeon Bay\, WI\, 54235\, United States
CATEGORIES:Open Meeting
ORGANIZER;CN="The 115 Club":MAILTO:thenew115club@gmail.com
END:VEVENT
BEGIN:VEVENT
DTSTART;TZID=America/Chicago:20290517T190000
DTEND;TZID=America/Chicago:20290517T200000
DTSTAMP:20260424T092238
CREATED:20241103T180329Z
LAST-MODIFIED:20250804T145605Z
UID:10006705-1873738800-1873742400@115clubdc.org
SUMMARY:Open Narcotics Anonymous Meeting 7:00 PM (Bridge to Recovery) In person+Zoom
DESCRIPTION:
URL:https://115clubdc.org/event/narcotics-anonymous-na-weekly-meeting/2029-05-17/
LOCATION:The 115 Club\, 115 N 5th Ave\, Sturgeon Bay\, WI\, 54235\, United States
ORGANIZER;CN="The 115 Club":MAILTO:thenew115club@gmail.com
END:VEVENT
BEGIN:VEVENT
DTSTART;TZID=America/Chicago:20290518T120000
DTEND;TZID=America/Chicago:20290518T130000
DTSTAMP:20260424T092238
CREATED:20240323T152040Z
LAST-MODIFIED:20250804T145820Z
UID:10007991-1873800000-1873803600@115clubdc.org
SUMMARY:Open AA Meeting: Brown Baggers (Topic Box Discussion)  In person+Zoom
DESCRIPTION:Brown Baggers\, Topic Box Discussion \nThis is an in person meeting with a Zoom option. \nZoom meeting access:\nComputer: https://us04web.zoom.us/j/3994175176 the meeting I.D. is: 399 417 5176\nI-Phone access: 312 626 6799 the meeting I.D. is: 399 417 5176# Password is: 115
URL:https://115clubdc.org/event/open-aa-meeting-brown-baggers-topic/2029-05-18/
LOCATION:The 115 Club\, 115 N 5th Ave\, Sturgeon Bay\, WI\, 54235\, United States
CATEGORIES:Open Meeting
ORGANIZER;CN="The 115 Club":MAILTO:thenew115club@gmail.com
END:VEVENT
BEGIN:VEVENT
DTSTART;TZID=America/Chicago:20290519T100000
DTEND;TZID=America/Chicago:20290519T110000
DTSTAMP:20260424T092238
CREATED:20240327T140524Z
LAST-MODIFIED:20250804T145750Z
UID:10007920-1873879200-1873882800@115clubdc.org
SUMMARY:Closed Womens AA Meeting: As Bill Sees It  In person only
DESCRIPTION:This is an in person meeting only.
URL:https://115clubdc.org/event/closed-womens-aa-meeting-as-bill-sees-it/2029-05-19/
LOCATION:The 115 Club\, 115 N 5th Ave\, Sturgeon Bay\, WI\, 54235\, United States
CATEGORIES:Closed Meeting
ORGANIZER;CN="The 115 Club":MAILTO:thenew115club@gmail.com
END:VEVENT
END:VCALENDAR