BEGIN:VCALENDAR
VERSION:2.0
PRODID:-//The 115 Club - ECPv6.15.17//NONSGML v1.0//EN
CALSCALE:GREGORIAN
METHOD:PUBLISH
X-ORIGINAL-URL:https://115clubdc.org
X-WR-CALDESC:Events for The 115 Club
REFRESH-INTERVAL;VALUE=DURATION:PT1H
X-Robots-Tag:noindex
X-PUBLISHED-TTL:PT1H
BEGIN:VTIMEZONE
TZID:America/Chicago
BEGIN:DAYLIGHT
TZOFFSETFROM:-0600
TZOFFSETTO:-0500
TZNAME:CDT
DTSTART:20260308T080000
END:DAYLIGHT
BEGIN:STANDARD
TZOFFSETFROM:-0500
TZOFFSETTO:-0600
TZNAME:CST
DTSTART:20261101T070000
END:STANDARD
BEGIN:DAYLIGHT
TZOFFSETFROM:-0600
TZOFFSETTO:-0500
TZNAME:CDT
DTSTART:20270314T080000
END:DAYLIGHT
BEGIN:STANDARD
TZOFFSETFROM:-0500
TZOFFSETTO:-0600
TZNAME:CST
DTSTART:20271107T070000
END:STANDARD
BEGIN:DAYLIGHT
TZOFFSETFROM:-0600
TZOFFSETTO:-0500
TZNAME:CDT
DTSTART:20280312T080000
END:DAYLIGHT
BEGIN:STANDARD
TZOFFSETFROM:-0500
TZOFFSETTO:-0600
TZNAME:CST
DTSTART:20281105T070000
END:STANDARD
END:VTIMEZONE
BEGIN:VEVENT
DTSTART;TZID=America/Chicago:20270102T120000
DTEND;TZID=America/Chicago:20270102T130000
DTSTAMP:20260421T001018
CREATED:20240323T152123Z
LAST-MODIFIED:20250804T145137Z
UID:10003682-1798891200-1798894800@115clubdc.org
SUMMARY:Open AA Meeting: Brown Baggers (Open Discussion)  In person+Zoom
DESCRIPTION:This is an in person meeting with a Zoom option. \nZoom meeting access:\nComputer: https://us04web.zoom.us/j/3994175176 the meeting I.D. is: 399 417 5176\nI-Phone access: 312 626 6799 the meeting I.D. is: 399 417 5176# Password is: 115
URL:https://115clubdc.org/event/open-aa-meeting-brown-open/2027-01-02/
LOCATION:The 115 Club\, 115 N 5th Ave\, Sturgeon Bay\, WI\, 54235\, United States
CATEGORIES:Open Meeting
ORGANIZER;CN="The 115 Club":MAILTO:thenew115club@gmail.com
END:VEVENT
BEGIN:VEVENT
DTSTART;TZID=America/Chicago:20270103T093000
DTEND;TZID=America/Chicago:20270103T103000
DTSTAMP:20260421T001018
CREATED:20240323T153219Z
LAST-MODIFIED:20250804T144514Z
UID:10005828-1798968600-1798972200@115clubdc.org
SUMMARY:Open AA Meeting 9:30 AM (Principles Before Personalities Group) In person+Zoom
DESCRIPTION:This is an in person meeting with a Zoom option. \nZoom meeting access:\nComputer: https://us04web.zoom.us/j/3994175176 the meeting I.D. is: 399 417 5176\nI-Phone access: 312 626 6799 the meeting I.D. is: 399 417 5176# Password is: 115
URL:https://115clubdc.org/event/open-aa-meeting-principles/2027-01-03/
LOCATION:The 115 Club\, 115 N 5th Ave\, Sturgeon Bay\, WI\, 54235\, United States
CATEGORIES:Open Meeting
ORGANIZER;CN="The 115 Club":MAILTO:thenew115club@gmail.com
END:VEVENT
BEGIN:VEVENT
DTSTART;TZID=America/Chicago:20270104T120000
DTEND;TZID=America/Chicago:20270104T130000
DTSTAMP:20260421T001018
CREATED:20240214T164719Z
LAST-MODIFIED:20250804T144753Z
UID:10002117-1799064000-1799067600@115clubdc.org
SUMMARY:Open AA Meeting: Brown Baggers (12 Steps & 12 Traditions) In person+Zoom
DESCRIPTION:This is an in person meeting with a Zoom option \nZoom meeting access:\nComputer: https://us04web.zoom.us/j/3994175176 the meeting I.D. is: 399 417 5176\nI-Phone access: 312 626 6799 the meeting I.D. is: 399 417 5176# Password is: 115
URL:https://115clubdc.org/event/open-aa-meeting-brown-baggers-12steps/2027-01-04/
LOCATION:The 115 Club\, 115 N 5th Ave\, Sturgeon Bay\, WI\, 54235\, United States
CATEGORIES:Open Meeting
ORGANIZER;CN="The 115 Club":MAILTO:thenew115club@gmail.com
END:VEVENT
BEGIN:VEVENT
DTSTART;TZID=America/Chicago:20270104T190000
DTEND;TZID=America/Chicago:20270104T200000
DTSTAMP:20260421T001018
CREATED:20250804T143304Z
LAST-MODIFIED:20250804T143304Z
UID:10007162-1799089200-1799092800@115clubdc.org
SUMMARY:Open AA Meeting 7:00 PM (Smooth Sailing Group) In person+Zoom
DESCRIPTION:
URL:https://115clubdc.org/event/open-aa-meeting-700-pm-smooth-sailing-group-in-personzoom/2027-01-04/
LOCATION:The 115 Club\, 115 N 5th Ave\, Sturgeon Bay\, WI\, 54235\, United States
ORGANIZER;CN="The 115 Club":MAILTO:thenew115club@gmail.com
END:VEVENT
BEGIN:VEVENT
DTSTART;TZID=America/Chicago:20270105T120000
DTEND;TZID=America/Chicago:20270105T130000
DTSTAMP:20260421T001018
CREATED:20240323T151828Z
LAST-MODIFIED:20250804T144957Z
UID:10001595-1799150400-1799154000@115clubdc.org
SUMMARY:Open AA Meeting: Brown Baggers (Gratitude)  In person+Zoom
DESCRIPTION:This is an in person meeting with a Zoom option. \nZoom meeting access:\nComputer: https://us04web.zoom.us/j/3994175176 the meeting I.D. is: 399 417 5176\nI-Phone access: 312 626 6799 the meeting I.D. is: 399 417 5176# Password is: 115
URL:https://115clubdc.org/event/open-aa-meeting-brown-baggers-gratitude/2027-01-05/
LOCATION:The 115 Club\, 115 N 5th Ave\, Sturgeon Bay\, WI\, 54235\, United States
CATEGORIES:Open Meeting
ORGANIZER;CN="The 115 Club":MAILTO:thenew115club@gmail.com
END:VEVENT
BEGIN:VEVENT
DTSTART;TZID=America/Chicago:20270105T173000
DTEND;TZID=America/Chicago:20270105T183000
DTSTAMP:20260421T001018
CREATED:20250730T013911Z
LAST-MODIFIED:20250730T014240Z
UID:10006843-1799170200-1799173800@115clubdc.org
SUMMARY:Open Beyond Recovery Meeting 5:30 PM In person only
DESCRIPTION:
URL:https://115clubdc.org/event/open-beyond-recovery-meeting-530-pm-in-person-only/2027-01-05/
LOCATION:The 115 Club\, 115 N 5th Ave\, Sturgeon Bay\, WI\, 54235\, United States
ORGANIZER;CN="The 115 Club":MAILTO:thenew115club@gmail.com
END:VEVENT
BEGIN:VEVENT
DTSTART;TZID=America/Chicago:20270105T190000
DTEND;TZID=America/Chicago:20270105T200000
DTSTAMP:20260421T001018
CREATED:20250804T143349Z
LAST-MODIFIED:20250804T143349Z
UID:10007423-1799175600-1799179200@115clubdc.org
SUMMARY:Open AA Meeting 7:00 PM (Smooth Sailing) In person+Zoom
DESCRIPTION:
URL:https://115clubdc.org/event/open-aa-meeting-700-pm-smooth-sailing-in-personzoom/2027-01-05/
LOCATION:The 115 Club\, 115 N 5th Ave\, Sturgeon Bay\, WI\, 54235\, United States
ORGANIZER;CN="The 115 Club":MAILTO:thenew115club@gmail.com
END:VEVENT
BEGIN:VEVENT
DTSTART;TZID=America/Chicago:20270106T120000
DTEND;TZID=America/Chicago:20270106T130000
DTSTAMP:20260421T001018
CREATED:20240323T151910Z
LAST-MODIFIED:20250804T145923Z
UID:10001897-1799236800-1799240400@115clubdc.org
SUMMARY:Open AA Meeting: Brown Baggers (Big Book)  In person+Zoom
DESCRIPTION:This is an in person meeting with a Zoom option. \nZoom meeting access:\nComputer: https://us04web.zoom.us/j/3994175176 the meeting I.D. is: 399 417 5176\nI-Phone access: 312 626 6799 the meeting I.D. is: 399 417 5176# Password is: 115
URL:https://115clubdc.org/event/open-aa-meeting-brown-baggers-book/2027-01-06/
LOCATION:The 115 Club\, 115 N 5th Ave\, Sturgeon Bay\, WI\, 54235\, United States
CATEGORIES:Open Meeting
ORGANIZER;CN="The 115 Club":MAILTO:thenew115club@gmail.com
END:VEVENT
BEGIN:VEVENT
DTSTART;TZID=America/Chicago:20270106T190000
DTEND;TZID=America/Chicago:20270106T200000
DTSTAMP:20260421T001018
CREATED:20240323T152306Z
LAST-MODIFIED:20250804T145906Z
UID:10005247-1799262000-1799265600@115clubdc.org
SUMMARY:Open AA Meeting: Smooth Sailing (Grapevine)  In person+Zoom
DESCRIPTION:This is an in person meeting with a Zoom option. \nZoom meeting access:\nComputer: https://us04web.zoom.us/j/3994175176 the meeting I.D. is: 399 417 5176\nI-Phone access: 312 626 6799 the meeting I.D. is: 399 417 5176# Password is: 115
URL:https://115clubdc.org/event/open-aa-meeting-ss-grapevine/2027-01-06/
LOCATION:The 115 Club\, 115 N 5th Ave\, Sturgeon Bay\, WI\, 54235\, United States
CATEGORIES:Open Meeting
ORGANIZER;CN="The 115 Club":MAILTO:thenew115club@gmail.com
END:VEVENT
BEGIN:VEVENT
DTSTART;TZID=America/Chicago:20270107T120000
DTEND;TZID=America/Chicago:20270107T130000
DTSTAMP:20260421T001018
CREATED:20240323T152009Z
LAST-MODIFIED:20250804T145847Z
UID:10002639-1799323200-1799326800@115clubdc.org
SUMMARY:Open AA Meeting: Brown Baggers (Came to Believe)  In person+Zoom
DESCRIPTION:This is an in person meeting with a Zoom option. \nZoom meeting access:\nComputer: https://us04web.zoom.us/j/3994175176 the meeting I.D. is: 399 417 5176\nI-Phone access: 312 626 6799 the meeting I.D. is: 399 417 5176# Password is: 115
URL:https://115clubdc.org/event/open-aa-meeting-brown-baggers-beleive/2027-01-07/
LOCATION:The 115 Club\, 115 N 5th Ave\, Sturgeon Bay\, WI\, 54235\, United States
CATEGORIES:Open Meeting
ORGANIZER;CN="The 115 Club":MAILTO:thenew115club@gmail.com
END:VEVENT
BEGIN:VEVENT
DTSTART;TZID=America/Chicago:20270107T190000
DTEND;TZID=America/Chicago:20270107T200000
DTSTAMP:20260421T001018
CREATED:20241103T180329Z
LAST-MODIFIED:20250804T145605Z
UID:10006582-1799348400-1799352000@115clubdc.org
SUMMARY:Open Narcotics Anonymous Meeting 7:00 PM (Bridge to Recovery) In person+Zoom
DESCRIPTION:
URL:https://115clubdc.org/event/narcotics-anonymous-na-weekly-meeting/2027-01-07/
LOCATION:The 115 Club\, 115 N 5th Ave\, Sturgeon Bay\, WI\, 54235\, United States
ORGANIZER;CN="The 115 Club":MAILTO:thenew115club@gmail.com
END:VEVENT
BEGIN:VEVENT
DTSTART;TZID=America/Chicago:20270108T120000
DTEND;TZID=America/Chicago:20270108T130000
DTSTAMP:20260421T001018
CREATED:20240323T152040Z
LAST-MODIFIED:20250804T145820Z
UID:10003161-1799409600-1799413200@115clubdc.org
SUMMARY:Open AA Meeting: Brown Baggers (Topic Box Discussion)  In person+Zoom
DESCRIPTION:Brown Baggers\, Topic Box Discussion \nThis is an in person meeting with a Zoom option. \nZoom meeting access:\nComputer: https://us04web.zoom.us/j/3994175176 the meeting I.D. is: 399 417 5176\nI-Phone access: 312 626 6799 the meeting I.D. is: 399 417 5176# Password is: 115
URL:https://115clubdc.org/event/open-aa-meeting-brown-baggers-topic/2027-01-08/
LOCATION:The 115 Club\, 115 N 5th Ave\, Sturgeon Bay\, WI\, 54235\, United States
CATEGORIES:Open Meeting
ORGANIZER;CN="The 115 Club":MAILTO:thenew115club@gmail.com
END:VEVENT
BEGIN:VEVENT
DTSTART;TZID=America/Chicago:20270109T100000
DTEND;TZID=America/Chicago:20270109T110000
DTSTAMP:20260421T001018
CREATED:20240327T140524Z
LAST-MODIFIED:20250804T145750Z
UID:10006089-1799488800-1799492400@115clubdc.org
SUMMARY:Closed Womens AA Meeting: As Bill Sees It  In person only
DESCRIPTION:This is an in person meeting only.
URL:https://115clubdc.org/event/closed-womens-aa-meeting-as-bill-sees-it/2027-01-09/
LOCATION:The 115 Club\, 115 N 5th Ave\, Sturgeon Bay\, WI\, 54235\, United States
CATEGORIES:Closed Meeting
ORGANIZER;CN="The 115 Club":MAILTO:thenew115club@gmail.com
END:VEVENT
BEGIN:VEVENT
DTSTART;TZID=America/Chicago:20270109T120000
DTEND;TZID=America/Chicago:20270109T130000
DTSTAMP:20260421T001018
CREATED:20240323T152123Z
LAST-MODIFIED:20250804T145137Z
UID:10003683-1799496000-1799499600@115clubdc.org
SUMMARY:Open AA Meeting: Brown Baggers (Open Discussion)  In person+Zoom
DESCRIPTION:This is an in person meeting with a Zoom option. \nZoom meeting access:\nComputer: https://us04web.zoom.us/j/3994175176 the meeting I.D. is: 399 417 5176\nI-Phone access: 312 626 6799 the meeting I.D. is: 399 417 5176# Password is: 115
URL:https://115clubdc.org/event/open-aa-meeting-brown-open/2027-01-09/
LOCATION:The 115 Club\, 115 N 5th Ave\, Sturgeon Bay\, WI\, 54235\, United States
CATEGORIES:Open Meeting
ORGANIZER;CN="The 115 Club":MAILTO:thenew115club@gmail.com
END:VEVENT
BEGIN:VEVENT
DTSTART;TZID=America/Chicago:20270110T093000
DTEND;TZID=America/Chicago:20270110T103000
DTSTAMP:20260421T001018
CREATED:20240323T153219Z
LAST-MODIFIED:20250804T144514Z
UID:10005829-1799573400-1799577000@115clubdc.org
SUMMARY:Open AA Meeting 9:30 AM (Principles Before Personalities Group) In person+Zoom
DESCRIPTION:This is an in person meeting with a Zoom option. \nZoom meeting access:\nComputer: https://us04web.zoom.us/j/3994175176 the meeting I.D. is: 399 417 5176\nI-Phone access: 312 626 6799 the meeting I.D. is: 399 417 5176# Password is: 115
URL:https://115clubdc.org/event/open-aa-meeting-principles/2027-01-10/
LOCATION:The 115 Club\, 115 N 5th Ave\, Sturgeon Bay\, WI\, 54235\, United States
CATEGORIES:Open Meeting
ORGANIZER;CN="The 115 Club":MAILTO:thenew115club@gmail.com
END:VEVENT
BEGIN:VEVENT
DTSTART;TZID=America/Chicago:20270111T120000
DTEND;TZID=America/Chicago:20270111T130000
DTSTAMP:20260421T001018
CREATED:20240214T164719Z
LAST-MODIFIED:20250804T144753Z
UID:10002118-1799668800-1799672400@115clubdc.org
SUMMARY:Open AA Meeting: Brown Baggers (12 Steps & 12 Traditions) In person+Zoom
DESCRIPTION:This is an in person meeting with a Zoom option \nZoom meeting access:\nComputer: https://us04web.zoom.us/j/3994175176 the meeting I.D. is: 399 417 5176\nI-Phone access: 312 626 6799 the meeting I.D. is: 399 417 5176# Password is: 115
URL:https://115clubdc.org/event/open-aa-meeting-brown-baggers-12steps/2027-01-11/
LOCATION:The 115 Club\, 115 N 5th Ave\, Sturgeon Bay\, WI\, 54235\, United States
CATEGORIES:Open Meeting
ORGANIZER;CN="The 115 Club":MAILTO:thenew115club@gmail.com
END:VEVENT
BEGIN:VEVENT
DTSTART;TZID=America/Chicago:20270111T190000
DTEND;TZID=America/Chicago:20270111T200000
DTSTAMP:20260421T001018
CREATED:20250804T143304Z
LAST-MODIFIED:20250804T143304Z
UID:10007163-1799694000-1799697600@115clubdc.org
SUMMARY:Open AA Meeting 7:00 PM (Smooth Sailing Group) In person+Zoom
DESCRIPTION:
URL:https://115clubdc.org/event/open-aa-meeting-700-pm-smooth-sailing-group-in-personzoom/2027-01-11/
LOCATION:The 115 Club\, 115 N 5th Ave\, Sturgeon Bay\, WI\, 54235\, United States
ORGANIZER;CN="The 115 Club":MAILTO:thenew115club@gmail.com
END:VEVENT
BEGIN:VEVENT
DTSTART;TZID=America/Chicago:20270112T120000
DTEND;TZID=America/Chicago:20270112T130000
DTSTAMP:20260421T001018
CREATED:20240323T151828Z
LAST-MODIFIED:20250804T144957Z
UID:10001596-1799755200-1799758800@115clubdc.org
SUMMARY:Open AA Meeting: Brown Baggers (Gratitude)  In person+Zoom
DESCRIPTION:This is an in person meeting with a Zoom option. \nZoom meeting access:\nComputer: https://us04web.zoom.us/j/3994175176 the meeting I.D. is: 399 417 5176\nI-Phone access: 312 626 6799 the meeting I.D. is: 399 417 5176# Password is: 115
URL:https://115clubdc.org/event/open-aa-meeting-brown-baggers-gratitude/2027-01-12/
LOCATION:The 115 Club\, 115 N 5th Ave\, Sturgeon Bay\, WI\, 54235\, United States
CATEGORIES:Open Meeting
ORGANIZER;CN="The 115 Club":MAILTO:thenew115club@gmail.com
END:VEVENT
BEGIN:VEVENT
DTSTART;TZID=America/Chicago:20270112T173000
DTEND;TZID=America/Chicago:20270112T183000
DTSTAMP:20260421T001018
CREATED:20250730T013911Z
LAST-MODIFIED:20250730T014240Z
UID:10006844-1799775000-1799778600@115clubdc.org
SUMMARY:Open Beyond Recovery Meeting 5:30 PM In person only
DESCRIPTION:
URL:https://115clubdc.org/event/open-beyond-recovery-meeting-530-pm-in-person-only/2027-01-12/
LOCATION:The 115 Club\, 115 N 5th Ave\, Sturgeon Bay\, WI\, 54235\, United States
ORGANIZER;CN="The 115 Club":MAILTO:thenew115club@gmail.com
END:VEVENT
BEGIN:VEVENT
DTSTART;TZID=America/Chicago:20270112T190000
DTEND;TZID=America/Chicago:20270112T200000
DTSTAMP:20260421T001018
CREATED:20250804T143349Z
LAST-MODIFIED:20250804T143349Z
UID:10007424-1799780400-1799784000@115clubdc.org
SUMMARY:Open AA Meeting 7:00 PM (Smooth Sailing) In person+Zoom
DESCRIPTION:
URL:https://115clubdc.org/event/open-aa-meeting-700-pm-smooth-sailing-in-personzoom/2027-01-12/
LOCATION:The 115 Club\, 115 N 5th Ave\, Sturgeon Bay\, WI\, 54235\, United States
ORGANIZER;CN="The 115 Club":MAILTO:thenew115club@gmail.com
END:VEVENT
BEGIN:VEVENT
DTSTART;TZID=America/Chicago:20270113T120000
DTEND;TZID=America/Chicago:20270113T130000
DTSTAMP:20260421T001018
CREATED:20240323T151910Z
LAST-MODIFIED:20250804T145923Z
UID:10001898-1799841600-1799845200@115clubdc.org
SUMMARY:Open AA Meeting: Brown Baggers (Big Book)  In person+Zoom
DESCRIPTION:This is an in person meeting with a Zoom option. \nZoom meeting access:\nComputer: https://us04web.zoom.us/j/3994175176 the meeting I.D. is: 399 417 5176\nI-Phone access: 312 626 6799 the meeting I.D. is: 399 417 5176# Password is: 115
URL:https://115clubdc.org/event/open-aa-meeting-brown-baggers-book/2027-01-13/
LOCATION:The 115 Club\, 115 N 5th Ave\, Sturgeon Bay\, WI\, 54235\, United States
CATEGORIES:Open Meeting
ORGANIZER;CN="The 115 Club":MAILTO:thenew115club@gmail.com
END:VEVENT
BEGIN:VEVENT
DTSTART;TZID=America/Chicago:20270113T190000
DTEND;TZID=America/Chicago:20270113T200000
DTSTAMP:20260421T001018
CREATED:20240323T152306Z
LAST-MODIFIED:20250804T145906Z
UID:10005248-1799866800-1799870400@115clubdc.org
SUMMARY:Open AA Meeting: Smooth Sailing (Grapevine)  In person+Zoom
DESCRIPTION:This is an in person meeting with a Zoom option. \nZoom meeting access:\nComputer: https://us04web.zoom.us/j/3994175176 the meeting I.D. is: 399 417 5176\nI-Phone access: 312 626 6799 the meeting I.D. is: 399 417 5176# Password is: 115
URL:https://115clubdc.org/event/open-aa-meeting-ss-grapevine/2027-01-13/
LOCATION:The 115 Club\, 115 N 5th Ave\, Sturgeon Bay\, WI\, 54235\, United States
CATEGORIES:Open Meeting
ORGANIZER;CN="The 115 Club":MAILTO:thenew115club@gmail.com
END:VEVENT
BEGIN:VEVENT
DTSTART;TZID=America/Chicago:20270114T120000
DTEND;TZID=America/Chicago:20270114T130000
DTSTAMP:20260421T001018
CREATED:20240323T152009Z
LAST-MODIFIED:20250804T145847Z
UID:10002640-1799928000-1799931600@115clubdc.org
SUMMARY:Open AA Meeting: Brown Baggers (Came to Believe)  In person+Zoom
DESCRIPTION:This is an in person meeting with a Zoom option. \nZoom meeting access:\nComputer: https://us04web.zoom.us/j/3994175176 the meeting I.D. is: 399 417 5176\nI-Phone access: 312 626 6799 the meeting I.D. is: 399 417 5176# Password is: 115
URL:https://115clubdc.org/event/open-aa-meeting-brown-baggers-beleive/2027-01-14/
LOCATION:The 115 Club\, 115 N 5th Ave\, Sturgeon Bay\, WI\, 54235\, United States
CATEGORIES:Open Meeting
ORGANIZER;CN="The 115 Club":MAILTO:thenew115club@gmail.com
END:VEVENT
BEGIN:VEVENT
DTSTART;TZID=America/Chicago:20270114T173000
DTEND;TZID=America/Chicago:20270114T183000
DTSTAMP:20260421T001018
CREATED:20250730T110847Z
LAST-MODIFIED:20250804T145635Z
UID:10007045-1799947800-1799951400@115clubdc.org
SUMMARY:AA District 22 Monthly Meeting 6:00 PM  In person+   Zoom
DESCRIPTION:
URL:https://115clubdc.org/event/aa-district-22-monthly-meeting-600-pm-2/2027-01-14/
LOCATION:The 115 Club\, 115 N 5th Ave\, Sturgeon Bay\, WI\, 54235\, United States
CATEGORIES:District 22 Meeting
ORGANIZER;CN="The 115 Club":MAILTO:thenew115club@gmail.com
END:VEVENT
BEGIN:VEVENT
DTSTART;TZID=America/Chicago:20270114T190000
DTEND;TZID=America/Chicago:20270114T200000
DTSTAMP:20260421T001018
CREATED:20241103T180329Z
LAST-MODIFIED:20250804T145605Z
UID:10006583-1799953200-1799956800@115clubdc.org
SUMMARY:Open Narcotics Anonymous Meeting 7:00 PM (Bridge to Recovery) In person+Zoom
DESCRIPTION:
URL:https://115clubdc.org/event/narcotics-anonymous-na-weekly-meeting/2027-01-14/
LOCATION:The 115 Club\, 115 N 5th Ave\, Sturgeon Bay\, WI\, 54235\, United States
ORGANIZER;CN="The 115 Club":MAILTO:thenew115club@gmail.com
END:VEVENT
BEGIN:VEVENT
DTSTART;TZID=America/Chicago:20270115T120000
DTEND;TZID=America/Chicago:20270115T130000
DTSTAMP:20260421T001018
CREATED:20240323T152040Z
LAST-MODIFIED:20250804T145820Z
UID:10003162-1800014400-1800018000@115clubdc.org
SUMMARY:Open AA Meeting: Brown Baggers (Topic Box Discussion)  In person+Zoom
DESCRIPTION:Brown Baggers\, Topic Box Discussion \nThis is an in person meeting with a Zoom option. \nZoom meeting access:\nComputer: https://us04web.zoom.us/j/3994175176 the meeting I.D. is: 399 417 5176\nI-Phone access: 312 626 6799 the meeting I.D. is: 399 417 5176# Password is: 115
URL:https://115clubdc.org/event/open-aa-meeting-brown-baggers-topic/2027-01-15/
LOCATION:The 115 Club\, 115 N 5th Ave\, Sturgeon Bay\, WI\, 54235\, United States
CATEGORIES:Open Meeting
ORGANIZER;CN="The 115 Club":MAILTO:thenew115club@gmail.com
END:VEVENT
BEGIN:VEVENT
DTSTART;TZID=America/Chicago:20270116T100000
DTEND;TZID=America/Chicago:20270116T110000
DTSTAMP:20260421T001018
CREATED:20240327T140524Z
LAST-MODIFIED:20250804T145750Z
UID:10006090-1800093600-1800097200@115clubdc.org
SUMMARY:Closed Womens AA Meeting: As Bill Sees It  In person only
DESCRIPTION:This is an in person meeting only.
URL:https://115clubdc.org/event/closed-womens-aa-meeting-as-bill-sees-it/2027-01-16/
LOCATION:The 115 Club\, 115 N 5th Ave\, Sturgeon Bay\, WI\, 54235\, United States
CATEGORIES:Closed Meeting
ORGANIZER;CN="The 115 Club":MAILTO:thenew115club@gmail.com
END:VEVENT
BEGIN:VEVENT
DTSTART;TZID=America/Chicago:20270116T120000
DTEND;TZID=America/Chicago:20270116T130000
DTSTAMP:20260421T001018
CREATED:20240323T152123Z
LAST-MODIFIED:20250804T145137Z
UID:10003684-1800100800-1800104400@115clubdc.org
SUMMARY:Open AA Meeting: Brown Baggers (Open Discussion)  In person+Zoom
DESCRIPTION:This is an in person meeting with a Zoom option. \nZoom meeting access:\nComputer: https://us04web.zoom.us/j/3994175176 the meeting I.D. is: 399 417 5176\nI-Phone access: 312 626 6799 the meeting I.D. is: 399 417 5176# Password is: 115
URL:https://115clubdc.org/event/open-aa-meeting-brown-open/2027-01-16/
LOCATION:The 115 Club\, 115 N 5th Ave\, Sturgeon Bay\, WI\, 54235\, United States
CATEGORIES:Open Meeting
ORGANIZER;CN="The 115 Club":MAILTO:thenew115club@gmail.com
END:VEVENT
BEGIN:VEVENT
DTSTART;TZID=America/Chicago:20270117T093000
DTEND;TZID=America/Chicago:20270117T103000
DTSTAMP:20260421T001018
CREATED:20240323T153219Z
LAST-MODIFIED:20250804T144514Z
UID:10005830-1800178200-1800181800@115clubdc.org
SUMMARY:Open AA Meeting 9:30 AM (Principles Before Personalities Group) In person+Zoom
DESCRIPTION:This is an in person meeting with a Zoom option. \nZoom meeting access:\nComputer: https://us04web.zoom.us/j/3994175176 the meeting I.D. is: 399 417 5176\nI-Phone access: 312 626 6799 the meeting I.D. is: 399 417 5176# Password is: 115
URL:https://115clubdc.org/event/open-aa-meeting-principles/2027-01-17/
LOCATION:The 115 Club\, 115 N 5th Ave\, Sturgeon Bay\, WI\, 54235\, United States
CATEGORIES:Open Meeting
ORGANIZER;CN="The 115 Club":MAILTO:thenew115club@gmail.com
END:VEVENT
BEGIN:VEVENT
DTSTART;TZID=America/Chicago:20270118T120000
DTEND;TZID=America/Chicago:20270118T130000
DTSTAMP:20260421T001018
CREATED:20240214T164719Z
LAST-MODIFIED:20250804T144753Z
UID:10002119-1800273600-1800277200@115clubdc.org
SUMMARY:Open AA Meeting: Brown Baggers (12 Steps & 12 Traditions) In person+Zoom
DESCRIPTION:This is an in person meeting with a Zoom option \nZoom meeting access:\nComputer: https://us04web.zoom.us/j/3994175176 the meeting I.D. is: 399 417 5176\nI-Phone access: 312 626 6799 the meeting I.D. is: 399 417 5176# Password is: 115
URL:https://115clubdc.org/event/open-aa-meeting-brown-baggers-12steps/2027-01-18/
LOCATION:The 115 Club\, 115 N 5th Ave\, Sturgeon Bay\, WI\, 54235\, United States
CATEGORIES:Open Meeting
ORGANIZER;CN="The 115 Club":MAILTO:thenew115club@gmail.com
END:VEVENT
END:VCALENDAR