BEGIN:VCALENDAR
VERSION:2.0
PRODID:-//The 115 Club - ECPv6.15.17//NONSGML v1.0//EN
CALSCALE:GREGORIAN
METHOD:PUBLISH
X-ORIGINAL-URL:https://115clubdc.org
X-WR-CALDESC:Events for The 115 Club
REFRESH-INTERVAL;VALUE=DURATION:PT1H
X-Robots-Tag:noindex
X-PUBLISHED-TTL:PT1H
BEGIN:VTIMEZONE
TZID:America/Chicago
BEGIN:DAYLIGHT
TZOFFSETFROM:-0600
TZOFFSETTO:-0500
TZNAME:CDT
DTSTART:20260308T080000
END:DAYLIGHT
BEGIN:STANDARD
TZOFFSETFROM:-0500
TZOFFSETTO:-0600
TZNAME:CST
DTSTART:20261101T070000
END:STANDARD
BEGIN:DAYLIGHT
TZOFFSETFROM:-0600
TZOFFSETTO:-0500
TZNAME:CDT
DTSTART:20270314T080000
END:DAYLIGHT
BEGIN:STANDARD
TZOFFSETFROM:-0500
TZOFFSETTO:-0600
TZNAME:CST
DTSTART:20271107T070000
END:STANDARD
BEGIN:DAYLIGHT
TZOFFSETFROM:-0600
TZOFFSETTO:-0500
TZNAME:CDT
DTSTART:20280312T080000
END:DAYLIGHT
BEGIN:STANDARD
TZOFFSETFROM:-0500
TZOFFSETTO:-0600
TZNAME:CST
DTSTART:20281105T070000
END:STANDARD
END:VTIMEZONE
BEGIN:VEVENT
DTSTART;TZID=America/Chicago:20270704T093000
DTEND;TZID=America/Chicago:20270704T103000
DTSTAMP:20260421T210518
CREATED:20240323T153219Z
LAST-MODIFIED:20250804T144514Z
UID:10005854-1814693400-1814697000@115clubdc.org
SUMMARY:Open AA Meeting 9:30 AM (Principles Before Personalities Group) In person+Zoom
DESCRIPTION:This is an in person meeting with a Zoom option. \nZoom meeting access:\nComputer: https://us04web.zoom.us/j/3994175176 the meeting I.D. is: 399 417 5176\nI-Phone access: 312 626 6799 the meeting I.D. is: 399 417 5176# Password is: 115
URL:https://115clubdc.org/event/open-aa-meeting-principles/2027-07-04/
LOCATION:The 115 Club\, 115 N 5th Ave\, Sturgeon Bay\, WI\, 54235\, United States
CATEGORIES:Open Meeting
ORGANIZER;CN="The 115 Club":MAILTO:thenew115club@gmail.com
END:VEVENT
BEGIN:VEVENT
DTSTART;TZID=America/Chicago:20270705T120000
DTEND;TZID=America/Chicago:20270705T130000
DTSTAMP:20260421T210518
CREATED:20240214T164719Z
LAST-MODIFIED:20250804T144753Z
UID:10002143-1814788800-1814792400@115clubdc.org
SUMMARY:Open AA Meeting: Brown Baggers (12 Steps & 12 Traditions) In person+Zoom
DESCRIPTION:This is an in person meeting with a Zoom option \nZoom meeting access:\nComputer: https://us04web.zoom.us/j/3994175176 the meeting I.D. is: 399 417 5176\nI-Phone access: 312 626 6799 the meeting I.D. is: 399 417 5176# Password is: 115
URL:https://115clubdc.org/event/open-aa-meeting-brown-baggers-12steps/2027-07-05/
LOCATION:The 115 Club\, 115 N 5th Ave\, Sturgeon Bay\, WI\, 54235\, United States
CATEGORIES:Open Meeting
ORGANIZER;CN="The 115 Club":MAILTO:thenew115club@gmail.com
END:VEVENT
BEGIN:VEVENT
DTSTART;TZID=America/Chicago:20270705T190000
DTEND;TZID=America/Chicago:20270705T200000
DTSTAMP:20260421T210518
CREATED:20250804T143304Z
LAST-MODIFIED:20250804T143304Z
UID:10007188-1814814000-1814817600@115clubdc.org
SUMMARY:Open AA Meeting 7:00 PM (Smooth Sailing Group) In person+Zoom
DESCRIPTION:
URL:https://115clubdc.org/event/open-aa-meeting-700-pm-smooth-sailing-group-in-personzoom/2027-07-05/
LOCATION:The 115 Club\, 115 N 5th Ave\, Sturgeon Bay\, WI\, 54235\, United States
ORGANIZER;CN="The 115 Club":MAILTO:thenew115club@gmail.com
END:VEVENT
BEGIN:VEVENT
DTSTART;TZID=America/Chicago:20270706T120000
DTEND;TZID=America/Chicago:20270706T130000
DTSTAMP:20260421T210518
CREATED:20240323T151828Z
LAST-MODIFIED:20250804T144957Z
UID:10001621-1814875200-1814878800@115clubdc.org
SUMMARY:Open AA Meeting: Brown Baggers (Gratitude)  In person+Zoom
DESCRIPTION:This is an in person meeting with a Zoom option. \nZoom meeting access:\nComputer: https://us04web.zoom.us/j/3994175176 the meeting I.D. is: 399 417 5176\nI-Phone access: 312 626 6799 the meeting I.D. is: 399 417 5176# Password is: 115
URL:https://115clubdc.org/event/open-aa-meeting-brown-baggers-gratitude/2027-07-06/
LOCATION:The 115 Club\, 115 N 5th Ave\, Sturgeon Bay\, WI\, 54235\, United States
CATEGORIES:Open Meeting
ORGANIZER;CN="The 115 Club":MAILTO:thenew115club@gmail.com
END:VEVENT
BEGIN:VEVENT
DTSTART;TZID=America/Chicago:20270706T173000
DTEND;TZID=America/Chicago:20270706T183000
DTSTAMP:20260421T210518
CREATED:20250730T013911Z
LAST-MODIFIED:20250730T014240Z
UID:10006869-1814895000-1814898600@115clubdc.org
SUMMARY:Open Beyond Recovery Meeting 5:30 PM In person only
DESCRIPTION:
URL:https://115clubdc.org/event/open-beyond-recovery-meeting-530-pm-in-person-only/2027-07-06/
LOCATION:The 115 Club\, 115 N 5th Ave\, Sturgeon Bay\, WI\, 54235\, United States
ORGANIZER;CN="The 115 Club":MAILTO:thenew115club@gmail.com
END:VEVENT
BEGIN:VEVENT
DTSTART;TZID=America/Chicago:20270706T190000
DTEND;TZID=America/Chicago:20270706T200000
DTSTAMP:20260421T210518
CREATED:20250804T143349Z
LAST-MODIFIED:20250804T143349Z
UID:10007449-1814900400-1814904000@115clubdc.org
SUMMARY:Open AA Meeting 7:00 PM (Smooth Sailing) In person+Zoom
DESCRIPTION:
URL:https://115clubdc.org/event/open-aa-meeting-700-pm-smooth-sailing-in-personzoom/2027-07-06/
LOCATION:The 115 Club\, 115 N 5th Ave\, Sturgeon Bay\, WI\, 54235\, United States
ORGANIZER;CN="The 115 Club":MAILTO:thenew115club@gmail.com
END:VEVENT
BEGIN:VEVENT
DTSTART;TZID=America/Chicago:20270707T120000
DTEND;TZID=America/Chicago:20270707T130000
DTSTAMP:20260421T210518
CREATED:20240323T151910Z
LAST-MODIFIED:20250804T145923Z
UID:10001923-1814961600-1814965200@115clubdc.org
SUMMARY:Open AA Meeting: Brown Baggers (Big Book)  In person+Zoom
DESCRIPTION:This is an in person meeting with a Zoom option. \nZoom meeting access:\nComputer: https://us04web.zoom.us/j/3994175176 the meeting I.D. is: 399 417 5176\nI-Phone access: 312 626 6799 the meeting I.D. is: 399 417 5176# Password is: 115
URL:https://115clubdc.org/event/open-aa-meeting-brown-baggers-book/2027-07-07/
LOCATION:The 115 Club\, 115 N 5th Ave\, Sturgeon Bay\, WI\, 54235\, United States
CATEGORIES:Open Meeting
ORGANIZER;CN="The 115 Club":MAILTO:thenew115club@gmail.com
END:VEVENT
BEGIN:VEVENT
DTSTART;TZID=America/Chicago:20270707T190000
DTEND;TZID=America/Chicago:20270707T200000
DTSTAMP:20260421T210518
CREATED:20240323T152306Z
LAST-MODIFIED:20250804T145906Z
UID:10005273-1814986800-1814990400@115clubdc.org
SUMMARY:Open AA Meeting: Smooth Sailing (Grapevine)  In person+Zoom
DESCRIPTION:This is an in person meeting with a Zoom option. \nZoom meeting access:\nComputer: https://us04web.zoom.us/j/3994175176 the meeting I.D. is: 399 417 5176\nI-Phone access: 312 626 6799 the meeting I.D. is: 399 417 5176# Password is: 115
URL:https://115clubdc.org/event/open-aa-meeting-ss-grapevine/2027-07-07/
LOCATION:The 115 Club\, 115 N 5th Ave\, Sturgeon Bay\, WI\, 54235\, United States
CATEGORIES:Open Meeting
ORGANIZER;CN="The 115 Club":MAILTO:thenew115club@gmail.com
END:VEVENT
BEGIN:VEVENT
DTSTART;TZID=America/Chicago:20270708T120000
DTEND;TZID=America/Chicago:20270708T130000
DTSTAMP:20260421T210518
CREATED:20240323T152009Z
LAST-MODIFIED:20250804T145847Z
UID:10002665-1815048000-1815051600@115clubdc.org
SUMMARY:Open AA Meeting: Brown Baggers (Came to Believe)  In person+Zoom
DESCRIPTION:This is an in person meeting with a Zoom option. \nZoom meeting access:\nComputer: https://us04web.zoom.us/j/3994175176 the meeting I.D. is: 399 417 5176\nI-Phone access: 312 626 6799 the meeting I.D. is: 399 417 5176# Password is: 115
URL:https://115clubdc.org/event/open-aa-meeting-brown-baggers-beleive/2027-07-08/
LOCATION:The 115 Club\, 115 N 5th Ave\, Sturgeon Bay\, WI\, 54235\, United States
CATEGORIES:Open Meeting
ORGANIZER;CN="The 115 Club":MAILTO:thenew115club@gmail.com
END:VEVENT
BEGIN:VEVENT
DTSTART;TZID=America/Chicago:20270708T173000
DTEND;TZID=America/Chicago:20270708T183000
DTSTAMP:20260421T210518
CREATED:20250730T110847Z
LAST-MODIFIED:20250804T145635Z
UID:10007051-1815067800-1815071400@115clubdc.org
SUMMARY:AA District 22 Monthly Meeting 6:00 PM  In person+   Zoom
DESCRIPTION:
URL:https://115clubdc.org/event/aa-district-22-monthly-meeting-600-pm-2/2027-07-08/
LOCATION:The 115 Club\, 115 N 5th Ave\, Sturgeon Bay\, WI\, 54235\, United States
CATEGORIES:District 22 Meeting
ORGANIZER;CN="The 115 Club":MAILTO:thenew115club@gmail.com
END:VEVENT
BEGIN:VEVENT
DTSTART;TZID=America/Chicago:20270708T190000
DTEND;TZID=America/Chicago:20270708T200000
DTSTAMP:20260421T210518
CREATED:20241103T180329Z
LAST-MODIFIED:20250804T145605Z
UID:10006608-1815073200-1815076800@115clubdc.org
SUMMARY:Open Narcotics Anonymous Meeting 7:00 PM (Bridge to Recovery) In person+Zoom
DESCRIPTION:
URL:https://115clubdc.org/event/narcotics-anonymous-na-weekly-meeting/2027-07-08/
LOCATION:The 115 Club\, 115 N 5th Ave\, Sturgeon Bay\, WI\, 54235\, United States
ORGANIZER;CN="The 115 Club":MAILTO:thenew115club@gmail.com
END:VEVENT
BEGIN:VEVENT
DTSTART;TZID=America/Chicago:20270709T120000
DTEND;TZID=America/Chicago:20270709T130000
DTSTAMP:20260421T210518
CREATED:20240323T152040Z
LAST-MODIFIED:20250804T145820Z
UID:10003187-1815134400-1815138000@115clubdc.org
SUMMARY:Open AA Meeting: Brown Baggers (Topic Box Discussion)  In person+Zoom
DESCRIPTION:Brown Baggers\, Topic Box Discussion \nThis is an in person meeting with a Zoom option. \nZoom meeting access:\nComputer: https://us04web.zoom.us/j/3994175176 the meeting I.D. is: 399 417 5176\nI-Phone access: 312 626 6799 the meeting I.D. is: 399 417 5176# Password is: 115
URL:https://115clubdc.org/event/open-aa-meeting-brown-baggers-topic/2027-07-09/
LOCATION:The 115 Club\, 115 N 5th Ave\, Sturgeon Bay\, WI\, 54235\, United States
CATEGORIES:Open Meeting
ORGANIZER;CN="The 115 Club":MAILTO:thenew115club@gmail.com
END:VEVENT
BEGIN:VEVENT
DTSTART;TZID=America/Chicago:20270710T100000
DTEND;TZID=America/Chicago:20270710T110000
DTSTAMP:20260421T210518
CREATED:20240327T140524Z
LAST-MODIFIED:20250804T145750Z
UID:10006115-1815213600-1815217200@115clubdc.org
SUMMARY:Closed Womens AA Meeting: As Bill Sees It  In person only
DESCRIPTION:This is an in person meeting only.
URL:https://115clubdc.org/event/closed-womens-aa-meeting-as-bill-sees-it/2027-07-10/
LOCATION:The 115 Club\, 115 N 5th Ave\, Sturgeon Bay\, WI\, 54235\, United States
CATEGORIES:Closed Meeting
ORGANIZER;CN="The 115 Club":MAILTO:thenew115club@gmail.com
END:VEVENT
BEGIN:VEVENT
DTSTART;TZID=America/Chicago:20270710T120000
DTEND;TZID=America/Chicago:20270710T130000
DTSTAMP:20260421T210518
CREATED:20240323T152123Z
LAST-MODIFIED:20250804T145137Z
UID:10003709-1815220800-1815224400@115clubdc.org
SUMMARY:Open AA Meeting: Brown Baggers (Open Discussion)  In person+Zoom
DESCRIPTION:This is an in person meeting with a Zoom option. \nZoom meeting access:\nComputer: https://us04web.zoom.us/j/3994175176 the meeting I.D. is: 399 417 5176\nI-Phone access: 312 626 6799 the meeting I.D. is: 399 417 5176# Password is: 115
URL:https://115clubdc.org/event/open-aa-meeting-brown-open/2027-07-10/
LOCATION:The 115 Club\, 115 N 5th Ave\, Sturgeon Bay\, WI\, 54235\, United States
CATEGORIES:Open Meeting
ORGANIZER;CN="The 115 Club":MAILTO:thenew115club@gmail.com
END:VEVENT
BEGIN:VEVENT
DTSTART;TZID=America/Chicago:20270711T093000
DTEND;TZID=America/Chicago:20270711T103000
DTSTAMP:20260421T210518
CREATED:20240323T153219Z
LAST-MODIFIED:20250804T144514Z
UID:10005855-1815298200-1815301800@115clubdc.org
SUMMARY:Open AA Meeting 9:30 AM (Principles Before Personalities Group) In person+Zoom
DESCRIPTION:This is an in person meeting with a Zoom option. \nZoom meeting access:\nComputer: https://us04web.zoom.us/j/3994175176 the meeting I.D. is: 399 417 5176\nI-Phone access: 312 626 6799 the meeting I.D. is: 399 417 5176# Password is: 115
URL:https://115clubdc.org/event/open-aa-meeting-principles/2027-07-11/
LOCATION:The 115 Club\, 115 N 5th Ave\, Sturgeon Bay\, WI\, 54235\, United States
CATEGORIES:Open Meeting
ORGANIZER;CN="The 115 Club":MAILTO:thenew115club@gmail.com
END:VEVENT
BEGIN:VEVENT
DTSTART;TZID=America/Chicago:20270712T120000
DTEND;TZID=America/Chicago:20270712T130000
DTSTAMP:20260421T210518
CREATED:20240214T164719Z
LAST-MODIFIED:20250804T144753Z
UID:10002144-1815393600-1815397200@115clubdc.org
SUMMARY:Open AA Meeting: Brown Baggers (12 Steps & 12 Traditions) In person+Zoom
DESCRIPTION:This is an in person meeting with a Zoom option \nZoom meeting access:\nComputer: https://us04web.zoom.us/j/3994175176 the meeting I.D. is: 399 417 5176\nI-Phone access: 312 626 6799 the meeting I.D. is: 399 417 5176# Password is: 115
URL:https://115clubdc.org/event/open-aa-meeting-brown-baggers-12steps/2027-07-12/
LOCATION:The 115 Club\, 115 N 5th Ave\, Sturgeon Bay\, WI\, 54235\, United States
CATEGORIES:Open Meeting
ORGANIZER;CN="The 115 Club":MAILTO:thenew115club@gmail.com
END:VEVENT
BEGIN:VEVENT
DTSTART;TZID=America/Chicago:20270712T190000
DTEND;TZID=America/Chicago:20270712T200000
DTSTAMP:20260421T210518
CREATED:20250804T143304Z
LAST-MODIFIED:20250804T143304Z
UID:10007189-1815418800-1815422400@115clubdc.org
SUMMARY:Open AA Meeting 7:00 PM (Smooth Sailing Group) In person+Zoom
DESCRIPTION:
URL:https://115clubdc.org/event/open-aa-meeting-700-pm-smooth-sailing-group-in-personzoom/2027-07-12/
LOCATION:The 115 Club\, 115 N 5th Ave\, Sturgeon Bay\, WI\, 54235\, United States
ORGANIZER;CN="The 115 Club":MAILTO:thenew115club@gmail.com
END:VEVENT
BEGIN:VEVENT
DTSTART;TZID=America/Chicago:20270713T120000
DTEND;TZID=America/Chicago:20270713T130000
DTSTAMP:20260421T210518
CREATED:20240323T151828Z
LAST-MODIFIED:20250804T144957Z
UID:10001622-1815480000-1815483600@115clubdc.org
SUMMARY:Open AA Meeting: Brown Baggers (Gratitude)  In person+Zoom
DESCRIPTION:This is an in person meeting with a Zoom option. \nZoom meeting access:\nComputer: https://us04web.zoom.us/j/3994175176 the meeting I.D. is: 399 417 5176\nI-Phone access: 312 626 6799 the meeting I.D. is: 399 417 5176# Password is: 115
URL:https://115clubdc.org/event/open-aa-meeting-brown-baggers-gratitude/2027-07-13/
LOCATION:The 115 Club\, 115 N 5th Ave\, Sturgeon Bay\, WI\, 54235\, United States
CATEGORIES:Open Meeting
ORGANIZER;CN="The 115 Club":MAILTO:thenew115club@gmail.com
END:VEVENT
BEGIN:VEVENT
DTSTART;TZID=America/Chicago:20270713T173000
DTEND;TZID=America/Chicago:20270713T183000
DTSTAMP:20260421T210518
CREATED:20250730T013911Z
LAST-MODIFIED:20250730T014240Z
UID:10006870-1815499800-1815503400@115clubdc.org
SUMMARY:Open Beyond Recovery Meeting 5:30 PM In person only
DESCRIPTION:
URL:https://115clubdc.org/event/open-beyond-recovery-meeting-530-pm-in-person-only/2027-07-13/
LOCATION:The 115 Club\, 115 N 5th Ave\, Sturgeon Bay\, WI\, 54235\, United States
ORGANIZER;CN="The 115 Club":MAILTO:thenew115club@gmail.com
END:VEVENT
BEGIN:VEVENT
DTSTART;TZID=America/Chicago:20270713T190000
DTEND;TZID=America/Chicago:20270713T200000
DTSTAMP:20260421T210518
CREATED:20250804T143349Z
LAST-MODIFIED:20250804T143349Z
UID:10007450-1815505200-1815508800@115clubdc.org
SUMMARY:Open AA Meeting 7:00 PM (Smooth Sailing) In person+Zoom
DESCRIPTION:
URL:https://115clubdc.org/event/open-aa-meeting-700-pm-smooth-sailing-in-personzoom/2027-07-13/
LOCATION:The 115 Club\, 115 N 5th Ave\, Sturgeon Bay\, WI\, 54235\, United States
ORGANIZER;CN="The 115 Club":MAILTO:thenew115club@gmail.com
END:VEVENT
BEGIN:VEVENT
DTSTART;TZID=America/Chicago:20270714T120000
DTEND;TZID=America/Chicago:20270714T130000
DTSTAMP:20260421T210518
CREATED:20240323T151910Z
LAST-MODIFIED:20250804T145923Z
UID:10001924-1815566400-1815570000@115clubdc.org
SUMMARY:Open AA Meeting: Brown Baggers (Big Book)  In person+Zoom
DESCRIPTION:This is an in person meeting with a Zoom option. \nZoom meeting access:\nComputer: https://us04web.zoom.us/j/3994175176 the meeting I.D. is: 399 417 5176\nI-Phone access: 312 626 6799 the meeting I.D. is: 399 417 5176# Password is: 115
URL:https://115clubdc.org/event/open-aa-meeting-brown-baggers-book/2027-07-14/
LOCATION:The 115 Club\, 115 N 5th Ave\, Sturgeon Bay\, WI\, 54235\, United States
CATEGORIES:Open Meeting
ORGANIZER;CN="The 115 Club":MAILTO:thenew115club@gmail.com
END:VEVENT
BEGIN:VEVENT
DTSTART;TZID=America/Chicago:20270714T190000
DTEND;TZID=America/Chicago:20270714T200000
DTSTAMP:20260421T210518
CREATED:20240323T152306Z
LAST-MODIFIED:20250804T145906Z
UID:10005274-1815591600-1815595200@115clubdc.org
SUMMARY:Open AA Meeting: Smooth Sailing (Grapevine)  In person+Zoom
DESCRIPTION:This is an in person meeting with a Zoom option. \nZoom meeting access:\nComputer: https://us04web.zoom.us/j/3994175176 the meeting I.D. is: 399 417 5176\nI-Phone access: 312 626 6799 the meeting I.D. is: 399 417 5176# Password is: 115
URL:https://115clubdc.org/event/open-aa-meeting-ss-grapevine/2027-07-14/
LOCATION:The 115 Club\, 115 N 5th Ave\, Sturgeon Bay\, WI\, 54235\, United States
CATEGORIES:Open Meeting
ORGANIZER;CN="The 115 Club":MAILTO:thenew115club@gmail.com
END:VEVENT
BEGIN:VEVENT
DTSTART;TZID=America/Chicago:20270715T120000
DTEND;TZID=America/Chicago:20270715T130000
DTSTAMP:20260421T210518
CREATED:20240323T152009Z
LAST-MODIFIED:20250804T145847Z
UID:10002666-1815652800-1815656400@115clubdc.org
SUMMARY:Open AA Meeting: Brown Baggers (Came to Believe)  In person+Zoom
DESCRIPTION:This is an in person meeting with a Zoom option. \nZoom meeting access:\nComputer: https://us04web.zoom.us/j/3994175176 the meeting I.D. is: 399 417 5176\nI-Phone access: 312 626 6799 the meeting I.D. is: 399 417 5176# Password is: 115
URL:https://115clubdc.org/event/open-aa-meeting-brown-baggers-beleive/2027-07-15/
LOCATION:The 115 Club\, 115 N 5th Ave\, Sturgeon Bay\, WI\, 54235\, United States
CATEGORIES:Open Meeting
ORGANIZER;CN="The 115 Club":MAILTO:thenew115club@gmail.com
END:VEVENT
BEGIN:VEVENT
DTSTART;TZID=America/Chicago:20270715T190000
DTEND;TZID=America/Chicago:20270715T200000
DTSTAMP:20260421T210518
CREATED:20241103T180329Z
LAST-MODIFIED:20250804T145605Z
UID:10006609-1815678000-1815681600@115clubdc.org
SUMMARY:Open Narcotics Anonymous Meeting 7:00 PM (Bridge to Recovery) In person+Zoom
DESCRIPTION:
URL:https://115clubdc.org/event/narcotics-anonymous-na-weekly-meeting/2027-07-15/
LOCATION:The 115 Club\, 115 N 5th Ave\, Sturgeon Bay\, WI\, 54235\, United States
ORGANIZER;CN="The 115 Club":MAILTO:thenew115club@gmail.com
END:VEVENT
BEGIN:VEVENT
DTSTART;TZID=America/Chicago:20270716T120000
DTEND;TZID=America/Chicago:20270716T130000
DTSTAMP:20260421T210518
CREATED:20240323T152040Z
LAST-MODIFIED:20250804T145820Z
UID:10003188-1815739200-1815742800@115clubdc.org
SUMMARY:Open AA Meeting: Brown Baggers (Topic Box Discussion)  In person+Zoom
DESCRIPTION:Brown Baggers\, Topic Box Discussion \nThis is an in person meeting with a Zoom option. \nZoom meeting access:\nComputer: https://us04web.zoom.us/j/3994175176 the meeting I.D. is: 399 417 5176\nI-Phone access: 312 626 6799 the meeting I.D. is: 399 417 5176# Password is: 115
URL:https://115clubdc.org/event/open-aa-meeting-brown-baggers-topic/2027-07-16/
LOCATION:The 115 Club\, 115 N 5th Ave\, Sturgeon Bay\, WI\, 54235\, United States
CATEGORIES:Open Meeting
ORGANIZER;CN="The 115 Club":MAILTO:thenew115club@gmail.com
END:VEVENT
BEGIN:VEVENT
DTSTART;TZID=America/Chicago:20270717T100000
DTEND;TZID=America/Chicago:20270717T110000
DTSTAMP:20260421T210518
CREATED:20240327T140524Z
LAST-MODIFIED:20250804T145750Z
UID:10006116-1815818400-1815822000@115clubdc.org
SUMMARY:Closed Womens AA Meeting: As Bill Sees It  In person only
DESCRIPTION:This is an in person meeting only.
URL:https://115clubdc.org/event/closed-womens-aa-meeting-as-bill-sees-it/2027-07-17/
LOCATION:The 115 Club\, 115 N 5th Ave\, Sturgeon Bay\, WI\, 54235\, United States
CATEGORIES:Closed Meeting
ORGANIZER;CN="The 115 Club":MAILTO:thenew115club@gmail.com
END:VEVENT
BEGIN:VEVENT
DTSTART;TZID=America/Chicago:20270717T120000
DTEND;TZID=America/Chicago:20270717T130000
DTSTAMP:20260421T210518
CREATED:20240323T152123Z
LAST-MODIFIED:20250804T145137Z
UID:10003710-1815825600-1815829200@115clubdc.org
SUMMARY:Open AA Meeting: Brown Baggers (Open Discussion)  In person+Zoom
DESCRIPTION:This is an in person meeting with a Zoom option. \nZoom meeting access:\nComputer: https://us04web.zoom.us/j/3994175176 the meeting I.D. is: 399 417 5176\nI-Phone access: 312 626 6799 the meeting I.D. is: 399 417 5176# Password is: 115
URL:https://115clubdc.org/event/open-aa-meeting-brown-open/2027-07-17/
LOCATION:The 115 Club\, 115 N 5th Ave\, Sturgeon Bay\, WI\, 54235\, United States
CATEGORIES:Open Meeting
ORGANIZER;CN="The 115 Club":MAILTO:thenew115club@gmail.com
END:VEVENT
BEGIN:VEVENT
DTSTART;TZID=America/Chicago:20270718T093000
DTEND;TZID=America/Chicago:20270718T103000
DTSTAMP:20260421T210518
CREATED:20240323T153219Z
LAST-MODIFIED:20250804T144514Z
UID:10005856-1815903000-1815906600@115clubdc.org
SUMMARY:Open AA Meeting 9:30 AM (Principles Before Personalities Group) In person+Zoom
DESCRIPTION:This is an in person meeting with a Zoom option. \nZoom meeting access:\nComputer: https://us04web.zoom.us/j/3994175176 the meeting I.D. is: 399 417 5176\nI-Phone access: 312 626 6799 the meeting I.D. is: 399 417 5176# Password is: 115
URL:https://115clubdc.org/event/open-aa-meeting-principles/2027-07-18/
LOCATION:The 115 Club\, 115 N 5th Ave\, Sturgeon Bay\, WI\, 54235\, United States
CATEGORIES:Open Meeting
ORGANIZER;CN="The 115 Club":MAILTO:thenew115club@gmail.com
END:VEVENT
BEGIN:VEVENT
DTSTART;TZID=America/Chicago:20270719T120000
DTEND;TZID=America/Chicago:20270719T130000
DTSTAMP:20260421T210518
CREATED:20240214T164719Z
LAST-MODIFIED:20250804T144753Z
UID:10002145-1815998400-1816002000@115clubdc.org
SUMMARY:Open AA Meeting: Brown Baggers (12 Steps & 12 Traditions) In person+Zoom
DESCRIPTION:This is an in person meeting with a Zoom option \nZoom meeting access:\nComputer: https://us04web.zoom.us/j/3994175176 the meeting I.D. is: 399 417 5176\nI-Phone access: 312 626 6799 the meeting I.D. is: 399 417 5176# Password is: 115
URL:https://115clubdc.org/event/open-aa-meeting-brown-baggers-12steps/2027-07-19/
LOCATION:The 115 Club\, 115 N 5th Ave\, Sturgeon Bay\, WI\, 54235\, United States
CATEGORIES:Open Meeting
ORGANIZER;CN="The 115 Club":MAILTO:thenew115club@gmail.com
END:VEVENT
BEGIN:VEVENT
DTSTART;TZID=America/Chicago:20270719T173000
DTEND;TZID=America/Chicago:20270719T183000
DTSTAMP:20260421T210518
CREATED:20240214T171006Z
LAST-MODIFIED:20250804T144856Z
UID:10000084-1816018200-1816021800@115clubdc.org
SUMMARY:115 Club Board of Directors Monthly Meeting In person+Zoom
DESCRIPTION:3rd Monday of each month
URL:https://115clubdc.org/event/115-club-board-of-directors-monthly-meeting/2027-07-19/
LOCATION:The 115 Club\, 115 N 5th Ave\, Sturgeon Bay\, WI\, 54235\, United States
CATEGORIES:Board Meeting
ORGANIZER;CN="The 115 Club":MAILTO:thenew115club@gmail.com
END:VEVENT
END:VCALENDAR